BEGIN:VCALENDAR
VERSION:2.0
PRODID:-//ChamberMaster//Event Calendar 2.0//EN
METHOD:PUBLISH
X-PUBLISHED-TTL:P3D
REFRESH-INTERVAL:P3D
CALSCALE:GREGORIAN
BEGIN:VEVENT
DTSTART:20211024T010000Z
DTEND:20211024T030000Z
X-MICROSOFT-CDO-ALLDAYEVENT:FALSE
SUMMARY:PRISM Mental Health Guided Meditation and Writing Therapy
DESCRIPTION:Join Elevate PR Management Company as they bring a mini-PRISM event right here to Renton. Experience the liberating freedom as you are walked through a guided meditation\, writing prompt and therapeutic release in a safe environment and space. Grassroot approach to self-care and mental health - something so desperately needed. Registration required due to capacity in numbers.
X-ALT-DESC;FMTTYPE=text/html:<span style="color: rgb(69\, 67\, 67)\; font-family: Arial\, Verdana\, Helvetica\, sans-serif\; font-size: 14px\; white-space: pre-wrap\; background-color: rgb(236\, 236\, 232)\;">Join Elevate PR Management Company as they bring a mini-PRISM event right here to Renton. Experience the liberating freedom as you are walked through a guided meditation\, writing prompt and therapeutic release in a safe environment and space. Grassroot approach to self-care and mental health - something so desperately needed. Registration required due to capacity in numbers.</span>
LOCATION:Renton Chamber of Commerce 625 S 4th St Renton WA 98057
UID:e.16.9093
SEQUENCE:3
DTSTAMP:20260420T103141Z
URL:https://chamber.gorenton.com/events/details/prism-mental-health-guided-meditation-and-writing-therapy-9093
END:VEVENT

END:VCALENDAR
