BEGIN:VCALENDAR
VERSION:2.0
PRODID:-//ChamberMaster//Event Calendar 2.0//EN
METHOD:PUBLISH
X-PUBLISHED-TTL:P3D
REFRESH-INTERVAL:P3D
CALSCALE:GREGORIAN
BEGIN:VEVENT
DTSTART:20220430T200000Z
DTEND:20220430T230000Z
X-MICROSOFT-CDO-ALLDAYEVENT:FALSE
SUMMARY:Pub Crawl
DESCRIPTION:Join the Renton Pub Crawl for a unique experience visiting multiple stops with samples and specials in downtown Renton. The Renton Pub Crawl is brought to you by the Renton Downtown Partnership. This celebration of Erasmus' hatching month will tour you around the downtown core. Tickets include a taste at multiple locations\, a commemorative cup\, and drink specials at multiple locations downtown.\n\n \n\nPick up cups and wristbands at Rain City Market's new location at\n\n700 S 3rd St \n\n\n\nhttps://www.facebook.com/events/5287128437974359?acontext=%7B%22event_action_history%22%3A[%7B%22surface%22%3A%22page%22%7D]%7D
X-ALT-DESC;FMTTYPE=text/html:<div>Join the Renton Pub Crawl for a unique experience visiting multiple stops with samples and specials in downtown Renton. The Renton Pub Crawl is brought to you by the Renton Downtown Partnership. This celebration of Erasmus&rsquo\; hatching month will tour you around the downtown core. Tickets include a taste at multiple locations\, a commemorative cup\, and drink specials at multiple locations downtown.</div>\n\n<div>&nbsp\;</div>\n\n<div>Pick up cups and wristbands at Rain City Market&rsquo\;s new location at<br />\n700 S 3rd St&nbsp\;<br />\n<br />\nhttps://www.facebook.com/events/5287128437974359?acontext=%7B%22event_action_history%22%3A[%7B%22surface%22%3A%22page%22%7D]%7D<br />\n&nbsp\;</div>\n
LOCATION:Rain City Market 700 S 3rd St (on the corner of Burnett Ave S and S 3rd St.)
UID:e.16.11509
SEQUENCE:3
DTSTAMP:20260420T014053Z
URL:https://chamber.gorenton.com/events/details/pub-crawl-11509
END:VEVENT

END:VCALENDAR
