BEGIN:VCALENDAR
VERSION:2.0
PRODID:-//ChamberMaster//Event Calendar 2.0//EN
METHOD:PUBLISH
X-PUBLISHED-TTL:P3D
REFRESH-INTERVAL:P3D
CALSCALE:GREGORIAN
BEGIN:VEVENT
DTSTART:20190713T220000Z
DTEND:20190714T020000Z
X-MICROSOFT-CDO-ALLDAYEVENT:FALSE
SUMMARY:PUGET SOUND HONOR FLIGHT- FOR OUR BELOVED VETERANS
DESCRIPTION:6th ANNUAL FUNDRAISER\, DINNER AND SILENT AUCTION TO BENEFIT\n\n\n\nPUGET SOUND HONOR FLIGHT\n\n\n\nPuget Sound Honor Flight is a non-profit organization and member of the Honor Flight Network.  Their mission is to transport Western WA heroes on "One Last Mission"  - a trip to Washington\, D.C.\, to visit and reflect at the memorials built in their honor.  This trip is FREE to the veteran\, and made possible solely through individual donations and corporate support- NO Federal funds are allocated to this program. \n\n\n\nThis event has helped to sponsor over 80 Veterans including Renton Centre residents\, Louise George\, Fred Charles\, Jack Culley\, and Verne Graves. They were able to make their dream a reality on their trip to Washington\, DC.\n\n\n\nAn incredible dinner\, entertainment\, gifts and raffle prizes will be provided!\n\n\n\nPlease contact Lilia Anderson at Merrill Gardens to donate money and/or items for the auction.  You can donate anytime prior to and during the auction.\n\n\n\n$30 Entry Fee- All proceeds go directly to the Puegt Sound Honor Flight (pugetsoundhonorflight.org) \n\n\n\nIf you cannot attend but want to contribute download the Donation Form \, fill in the information and mail to the address enclosed.\n\n\n\nRSVP to liliaa@merrillgardens.com\n\n\n\nMERRILL GARDENS- Renton Center\n\n\n\n425-235-6400\n\n104 Burnett Ave S\n\nRenton. WA 98057\n\n\n\nmerrillgardens.com
X-ALT-DESC;FMTTYPE=text/html:6th ANNUAL FUNDRAISER\, DINNER AND SILENT AUCTION TO BENEFIT<br />\n<br />\nPUGET SOUND HONOR FLIGHT<br />\n<br />\nPuget Sound Honor Flight is a non-profit organization and member of the Honor Flight Network.&nbsp\; Their mission is to transport Western WA heroes on &quot\;One Last Mission&quot\;&nbsp\; - a trip to Washington\, D.C.\, to visit and reflect at the memorials built in their honor.&nbsp\; This trip is FREE to the veteran\, and made possible solely through individual donations and corporate support- NO Federal funds are allocated to this program.&nbsp\;<br />\n<br />\nThis event has helped to sponsor over 80 Veterans including Renton Centre residents\, Louise George\, Fred Charles\, Jack Culley\, and Verne Graves. They were able to make their dream a reality on their trip to Washington\, DC.<br />\n<br />\nAn incredible dinner\, entertainment\, gifts and raffle prizes will be provided!<br />\n<br />\nPlease contact Lilia Anderson at Merrill Gardens to donate money and/or items for the auction.&nbsp\; You can donate anytime prior to and during the auction.<br />\n<br />\n$30 Entry Fee- All proceeds go directly to the Puegt Sound Honor Flight (pugetsoundhonorflight.org)&nbsp\;<br />\n<br />\nIf you cannot attend but want to contribute download the <span style="color:#0000FF\;"><strong><a href="https://chambermaster.blob.core.windows.net/userfiles/UserFiles/chambers/16/File/MGPSHF-Single-donation-form.pdf">Donation Form</a></strong></span><strong>&nbsp\;\,</strong> fill in the information and mail to the address enclosed.<br />\n<br />\nRSVP to <a href="mailto:liliaa@merrillgardens.com">liliaa@merrillgardens.com</a><br />\n<br />\nMERRILL GARDENS- Renton Center<br />\n<br />\n425-235-6400<br />\n104 Burnett&nbsp\;Ave S<br />\nRenton. WA 98057<br />\n<br />\nmerrillgardens.com<br />\n&nbsp\;
LOCATION:Merrill Gardens- Renton Center 104 Burnett Ave S. Renton\, WA 98057
UID:e.16.6535
SEQUENCE:3
DTSTAMP:20260424T005851Z
URL:https://chamber.gorenton.com/events/details/puget-sound-honor-flight-for-our-beloved-veterans-6535
END:VEVENT

END:VCALENDAR
