BEGIN:VCALENDAR
VERSION:2.0
PRODID:-//ChamberMaster//Event Calendar 2.0//EN
METHOD:PUBLISH
X-PUBLISHED-TTL:P3D
REFRESH-INTERVAL:P3D
CALSCALE:GREGORIAN
BEGIN:VEVENT
DTSTART:20260521T180000Z
DTEND:20260521T210000Z
X-MICROSOFT-CDO-ALLDAYEVENT:FALSE
SUMMARY:Puget Sound Training Center: Career Fair
DESCRIPTION:For over 25 years\, Puget Sound Training Center has helped thousands of individuals receive training and find employment opportunities in Washington State. We have prioritized serving communities who have been historically underrepresented and underserved. Our mission is "help people turn their reality into success" and we know that it also takes a community of employers who see the value in people and their contributions to help in that success. \n\n\n\nWe are pleased to invite your organization to participate in our upcoming Job Fair\, hosted by Puget Sound Training Center on May 21\, 2026 from 11:00am to 2:00pm at Puget Sound Training Center.\n\nThis event brings together talented job seekers and respected employers in our community. If you are interested in registering as an employer\, please do so at the link provided. \n\n\n\nWe look forward to seeing you soon!
X-ALT-DESC;FMTTYPE=text/html:<div>For over 25 years\, Puget Sound Training Center has helped thousands of individuals receive training and find employment opportunities in Washington State.&nbsp\;We have prioritized serving communities who have been historically underrepresented and underserved. Our mission is&nbsp\;<strong><em>&ldquo\;help people turn their reality into success&rdquo\;</em></strong>&nbsp\;and we know that it also takes a community of employers who see the value in people and their contributions&nbsp\;to help in that success.&nbsp\;</div>\n\n<div><br />\nWe are pleased to invite your organization to&nbsp\;participate&nbsp\;in our upcoming&nbsp\;<strong>Job&nbsp\;Fair</strong>\, hosted by&nbsp\;<strong>Puget Sound Training Center</strong>&nbsp\;on&nbsp\;<strong>May 21\, 2026 from 11:00am to 2:00pm at Puget Sound Training Center.</strong></div>\n\n<div>This event brings together talented&nbsp\;job&nbsp\;seekers and respected&nbsp\;employers&nbsp\;in our community. If you are interested in registering as an employer\, please do so at the link provided.&nbsp\;<br />\n<br />\nWe look forward to seeing you soon!</div>\n
LOCATION:270 SW 43rd St. Bldg 3 Renton\, WA\, 98057
UID:e.16.32308
SEQUENCE:3
DTSTAMP:20260424T034952Z
URL:https://chamber.gorenton.com/events/details/puget-sound-training-center-career-fair-32308
END:VEVENT

END:VCALENDAR
