BEGIN:VCALENDAR
VERSION:2.0
PRODID:-//ChamberMaster//Event Calendar 2.0//EN
METHOD:PUBLISH
X-PUBLISHED-TTL:P3D
REFRESH-INTERVAL:P3D
CALSCALE:GREGORIAN
BEGIN:VEVENT
DTSTART:20220318T004500Z
DTEND:20220318T023000Z
X-MICROSOFT-CDO-ALLDAYEVENT:FALSE
SUMMARY:Purim in the Jungle
DESCRIPTION:Roarrr \n\nJoin us for a fantastic Purim in the Jungle Experience!\n\n \n\nStep into our African jungle and be transported with the help of an interactive Drum Circle with Seattle Hand Drummers and their authentic drums\, pulled-beef dinner buffet\, jungle crafts\, and more!\n\n \n\nJoin us and bring a friend! And we would love to see your jungle costumes! (Or any costumes\, for that matter.)\n\n \n\nAdvance registration is required at jewishrenton.com/jungle.\n\nWe can't wait to celebrate with you!
X-ALT-DESC;FMTTYPE=text/html:<div>Roarrr&hellip\;</div>\n\n<div>Join us for a fantastic Purim in the Jungle Experience!<br />\n&nbsp\;</div>\n\n<div>Step into our African jungle and be transported with the help of an interactive Drum Circle with Seattle Hand Drummers and their authentic drums\, pulled-beef dinner buffet\, jungle crafts\, and more!<br />\n&nbsp\;</div>\n\n<div>Join us and bring a friend! And we would love to see your jungle costumes! (Or any costumes\, for that matter.)<br />\n&nbsp\;</div>\n\n<div>Advance registration is required at&nbsp\;<a class="oajrlxb2 g5ia77u1 qu0x051f esr5mh6w e9989ue4 r7d6kgcz rq0escxv nhd2j8a9 nc684nl6 p7hjln8o kvgmc6g5 cxmmr5t8 oygrvhab hcukyx3x jb3vyjys rz4wbd8a qt6c0cv9 a8nywdso i1ao9s8h esuyzwwr f1sip0of lzcic4wl gpro0wi8 py34i1dx" href="http://jewishrenton.com/jungle?fbclid=IwAR2VjpgMUTTldV3xNvUC9K6WvtALKUEseQlUOok7EN1aTh4adflCx-f2TBc" rel="nofollow noopener" style="color: var(--blue-link)\; cursor: pointer\; text-decoration-line: none\; outline: none\; list-style: none\; border-width: 0px\; border-style: initial\; border-color: initial\; padding: 0px\; margin: 0px\; touch-action: manipulation\; background-color: transparent\; text-align: inherit\; display: inline\; -webkit-tap-highlight-color: transparent\; box-sizing: border-box\; font-family: inherit\;" tabindex="0" target="_blank">jewishrenton.com/jungle</a>.</div>\n\n<div>We can&#39\;t wait to celebrate with you!</div>\n
LOCATION:Bubbal Banquet and Event Center - 825 S 3rd Street\, Renton\, WA 98057
UID:e.16.11423
SEQUENCE:3
DTSTAMP:20260420T030045Z
URL:https://chamber.gorenton.com/events/details/purim-in-the-jungle-11423
END:VEVENT

END:VCALENDAR
