BEGIN:VCALENDAR
VERSION:2.0
PRODID:-//ChamberMaster//Event Calendar 2.0//EN
METHOD:PUBLISH
X-PUBLISHED-TTL:P3D
REFRESH-INTERVAL:P3D
CALSCALE:GREGORIAN
BEGIN:VEVENT
DTSTART:20220718T233000Z
DTEND:20220719T020000Z
X-MICROSOFT-CDO-ALLDAYEVENT:FALSE
SUMMARY:Rain City Grand Opening and Ribbon Cutting
DESCRIPTION:On Monday\, July 18th\, from 4pm to 7:00pm we will be celebrating our highly anticipated Grand Opening!\n\nRibbon Cutting - 4:30pm\n\nWe will be celebrating with music\, giveaways\, raffle\, samples of our menu and drinks.\n\nWe hope to see you there!\n\n \nA childhood dream continues with the opening of the Rain City Market.\n\nRenton\, WA   For over 20 years\, Rain City Catering's Kenneth Rogers and Jeremy Bryant wanted to offer the fantastic Southend comfort food they enjoyed as kids\, along with their delicious offerings that were only available at their privately catered events\, to the neighborhood folks.  Rain City Catering was so thankful for the support of their community during the Covid lockdown when all their affairs were canceled.  They could pivot and start their weekly feature meal program\, which was embraced by the community and allowed people to see each other at Saturday pick-up\, even if they were 6 feet apart.  Another pivot was the Fancy Frozen meals.  The same incredible dishes served at their catered events were available for one individual or a group and simple to prepare.  The goal was to "Feed the Folks"!\n\nThe recipes\, house products\, and services that Rain City Catering has established since 1999\, along with a nice mix of products that highlight our local producers and imported artisans\, will be available to the public with the opening of their "Breakfast All Day\, Your Way" deli and Market on July 18.\n\nThe ribbon cutting will be held at 4:30 pm\, followed by a lite reception featuring a few samples from the rotating menu.  We hope to see you all on July 18 at 4:30 pm.  #feedthefolks
X-ALT-DESC;FMTTYPE=text/html:<div class="kvgmc6g5 cxmmr5t8 oygrvhab hcukyx3x c1et5uql" style="overflow-wrap: break-word\; margin: 0px\; font-family: &quot\;Segoe UI Historic&quot\;\, &quot\;Segoe UI&quot\;\, Helvetica\, Arial\, sans-serif\; color: rgb(5\, 5\, 5)\; font-size: 15px\;">On Monday\, July 18th\, from 4pm to 7:00pm we will be celebrating our highly anticipated Grand Opening!</div>\n\n<div class="cxmmr5t8 oygrvhab hcukyx3x c1et5uql o9v6fnle" style="overflow-wrap: break-word\; margin: 0.5em 0px 0px\; font-family: &quot\;Segoe UI Historic&quot\;\, &quot\;Segoe UI&quot\;\, Helvetica\, Arial\, sans-serif\; color: rgb(5\, 5\, 5)\; font-size: 15px\;">Ribbon Cutting - 4:30pm</div>\n\n<div class="cxmmr5t8 oygrvhab hcukyx3x c1et5uql o9v6fnle" style="overflow-wrap: break-word\; margin: 0.5em 0px 0px\; font-family: &quot\;Segoe UI Historic&quot\;\, &quot\;Segoe UI&quot\;\, Helvetica\, Arial\, sans-serif\; color: rgb(5\, 5\, 5)\; font-size: 15px\;">We will be celebrating with music\, giveaways\, raffle\, samples of our menu and drinks.</div>\n\n<div class="cxmmr5t8 oygrvhab hcukyx3x c1et5uql o9v6fnle" style="overflow-wrap: break-word\; margin: 0.5em 0px 0px\; font-family: &quot\;Segoe UI Historic&quot\;\, &quot\;Segoe UI&quot\;\, Helvetica\, Arial\, sans-serif\; color: rgb(5\, 5\, 5)\; font-size: 15px\;">We hope to see you there!<br />\n&nbsp\;\n<p class="p1"><strong><span class="s1"><span style="font-size:17.5pt\;font-family:&quot\;UICTFontTextStyleBody&quot\;\,serif\;\ncolor:black">A childhood dream continues with the opening of the Rain City Market.</span></span></strong><span style="font-size:17.5pt\;color:black"><o:p></o:p></span></p>\n\n<p class="p2" style="min-height:29px\;caret-color:rgb(0\, 0\, 0)"><span class="s1"><span style="font-size:17.5pt\;font-family:&quot\;UICTFontTextStyleBody&quot\;\,serif\;color:black">Renton\, WA &mdash\; For over 20 years\, Rain City Catering&rsquo\;s Kenneth Rogers and Jeremy Bryant wanted to offer the fantastic Southend comfort food they enjoyed as kids\, along with their delicious offerings that were only available at their privately catered events\, to the neighborhood folks. &nbsp\;Rain City Catering was so thankful for the support of their community during the Covid lockdown when all their affairs were canceled. &nbsp\;They could pivot and start their weekly feature meal program\, which was embraced by the community and allowed people to see each other at Saturday pick-up\, even if they were 6 feet apart. &nbsp\;Another pivot was the Fancy Frozen meals. &nbsp\;The same incredible dishes served at their catered events were available for one individual or a group and simple to prepare. &nbsp\;The goal was to &ldquo\;Feed the Folks&rdquo\;!</span></span><span style="font-size:17.5pt\;color:black"><o:p></o:p></span></p>\n\n<p class="p2" style="min-height:29px\;caret-color:rgb(0\, 0\, 0)"><span class="s1"><span style="font-size:17.5pt\;font-family:&quot\;UICTFontTextStyleBody&quot\;\,serif\;color:black">The recipes\, house products\, and services that Rain City Catering has established since 1999\, along with a nice mix of products that highlight our local producers and imported artisans\, will be available to the public with the opening of their &ldquo\;Breakfast All Day\, Your Way&rdquo\; deli and Market&nbsp\;</span></span><span class="s2"><u><span style="font-size:17.5pt\;font-family:&quot\;UICTFontTextStyleBody&quot\;\,serif\;\ncolor:black">on July 18.</span></u></span><span style="font-size:17.5pt\;\ncolor:black"><o:p></o:p></span></p>\n\n<p class="p2" style="min-height:29px\;caret-color:rgb(0\, 0\, 0)"><span class="s1"><span style="font-size:17.5pt\;font-family:&quot\;UICTFontTextStyleBody&quot\;\,serif\;color:black">The ribbon cutting will be held&nbsp\;</span></span><span class="s2"><u><span style="font-size:17.5pt\;font-family:&quot\;UICTFontTextStyleBody&quot\;\,serif\;color:black">at 4:30 pm</span></u></span><span class="s1"><span style="font-size:17.5pt\;\nfont-family:&quot\;UICTFontTextStyleBody&quot\;\,serif\;color:black">\, followed by a lite reception featuring a few samples from the rotating menu. &nbsp\;We hope to see you all&nbsp\;</span></span><span class="s2"><u><span style="font-size:17.5pt\;\nfont-family:&quot\;UICTFontTextStyleBody&quot\;\,serif\;color:black">on July 18 at 4:30 pm</span></u></span><span class="s1"><span style="font-size:17.5pt\;font-family:&quot\;UICTFontTextStyleBody&quot\;\,serif\;\ncolor:black">. &nbsp\;#feedthefolks</span></span><span style="font-size:17.5pt\;\ncolor:black"><o:p></o:p></span></p>\n</div>\n
LOCATION:700 S 3rd St\, Renton\, WA 98057
UID:e.16.13496
SEQUENCE:3
DTSTAMP:20260419T220048Z
URL:https://chamber.gorenton.com/events/details/rain-city-grand-opening-and-ribbon-cutting-13496
END:VEVENT

END:VCALENDAR
