BEGIN:VCALENDAR
VERSION:2.0
PRODID:-//ChamberMaster//Event Calendar 2.0//EN
METHOD:PUBLISH
X-PUBLISHED-TTL:P3D
REFRESH-INTERVAL:P3D
CALSCALE:GREGORIAN
BEGIN:VEVENT
DTSTART:20260225T170000Z
DTEND:20260225T183000Z
X-MICROSOFT-CDO-ALLDAYEVENT:FALSE
SUMMARY:RANU - Renton Area Nonprofits Unite
DESCRIPTION:Presentation Summary:  Nonprofits have many audiences--they communicate with clients\, donors\, institutions\, and the public. This session will explore how nonprofits can use multi-channel communications to reach these different stakeholders. Sam will examine the tools\, techniques\, and strategies that help organizations deliver their messaging\, \n\n \n\nGuest Presenter: Samantha Cleveland is a creative professional and educator with over a decade of experience in nonprofits\, museums\, and cultural institutions. She holds a master's degree in Museum Studies from the University of San Francisco and a bachelor's degree in History of Art and Visual Culture from UC Santa Cruz. \n\n\nSamantha brings a strong background in arts administration\, communications\, development\, and public programming. Passionate about accessibility\, mental health and wellness initiatives\, and intergenerational engagement\, she is dedicated to creating inclusive\, meaningful experiences for diverse communities.
X-ALT-DESC;FMTTYPE=text/html:<div style="border: 0px\; font: inherit\; margin: 0px\; padding: 0px\; vertical-align: baseline\; color: inherit\;">\n<p dir="ltr" style="line-height: 1.38\; margin-top: 0pt\; margin-bottom: 0pt\;"><span data-olk-copy-source="MessageBody" style="border: 0px\; font-style: inherit\; font-variant-ligatures: inherit\; font-variant-caps: inherit\; font-variant-numeric: normal\; font-variant-east-asian: normal\; font-variant-alternates: normal\; font-variant-position: inherit\; font-variant-emoji: inherit\; font-weight: 700\; font-stretch: inherit\; font-size: 14pt\; line-height: inherit\; font-family: Calibri\, sans-serif\; font-optical-sizing: inherit\; font-size-adjust: inherit\; font-kerning: inherit\; font-feature-settings: inherit\; font-variation-settings: inherit\; font-language-override: inherit\; margin: 0px\; padding: 0px\; vertical-align: baseline\; color: rgb(200\, 38\, 19) !important\; text-decoration-line: underline\;">Presentation Summary:</span><span style="border: 0px\; font-style: inherit\; font-variant-ligatures: inherit\; font-variant-caps: inherit\; font-variant-numeric: normal\; font-variant-east-asian: normal\; font-variant-alternates: normal\; font-variant-position: inherit\; font-variant-emoji: inherit\; font-weight: 700\; font-stretch: inherit\; font-size: 13.5pt\; line-height: inherit\; font-family: Calibri\, sans-serif\; font-optical-sizing: inherit\; font-size-adjust: inherit\; font-kerning: inherit\; font-feature-settings: inherit\; font-variation-settings: inherit\; font-language-override: inherit\; margin: 0px\; padding: 0px\; vertical-align: baseline\; color: rgb(200\, 38\, 19) !important\; text-decoration-line: underline\;">&nbsp\;</span><font face="times new roman\, serif"><span style="border: 0px\; font-style: inherit\; font-variant-ligatures: inherit\; font-variant-caps: inherit\; font-variant-numeric: normal\; font-variant-east-asian: normal\; font-variant-alternates: normal\; font-variant-position: inherit\; font-variant-emoji: inherit\; font-weight: inherit\; font-stretch: inherit\; font-size: 13.5pt\; line-height: inherit\; font-family: inherit\; font-optical-sizing: inherit\; font-size-adjust: inherit\; font-kerning: inherit\; font-feature-settings: inherit\; font-variation-settings: inherit\; font-language-override: inherit\; margin: 0px\; padding: 0px\; vertical-align: baseline\; color: inherit\;">&nbsp\;</span></font><font size="4"><b>Nonprofits have many audiences--they communicate&nbsp\;with clients\, donors\, institutions\, and the public.&nbsp\;</b></font><span style="border: 0px\; font: inherit\; margin: 0px\; padding: 0px\; vertical-align: baseline\; color: rgb(34\, 34\, 34) !important\;"><b><font size="4">This session will explore how nonprofits can use multi-channel communications to reach these different stakeholders. Sam will examine the tools\, techniques\, and strategies that help organizations deliver their messaging\,&nbsp\;</font></b></span></p>\n\n<p dir="ltr" style="line-height: 1.38\; text-align: center\; margin-top: 0pt\; margin-bottom: 0pt\;"><span style="border: 0px\; font-style: inherit\; font-variant-ligatures: inherit\; font-variant-caps: inherit\; font-variant-numeric: normal\; font-variant-east-asian: normal\; font-variant-alternates: normal\; font-variant-position: inherit\; font-variant-emoji: inherit\; font-weight: 700\; font-stretch: inherit\; font-size: 12pt\; line-height: inherit\; font-family: Arial\, sans-serif\; font-optical-sizing: inherit\; font-size-adjust: inherit\; font-kerning: inherit\; font-feature-settings: inherit\; font-variation-settings: inherit\; font-language-override: inherit\; margin: 0px\; padding: 0px\; vertical-align: baseline\; color: rgb(34\, 34\, 34) !important\; text-decoration-line: underline\;">&nbsp\;</span></p>\n\n<p style="line-height: 1.38\; margin-top: 0pt\; margin-bottom: 0pt\;"><span style="border: 0px\; font-style: inherit\; font-variant-ligatures: inherit\; font-variant-caps: inherit\; font-variant-numeric: normal\; font-variant-east-asian: normal\; font-variant-alternates: normal\; font-variant-position: inherit\; font-variant-emoji: inherit\; font-weight: 700\; font-stretch: inherit\; font-size: 14pt\; line-height: inherit\; font-family: Calibri\, sans-serif\; font-optical-sizing: inherit\; font-size-adjust: inherit\; font-kerning: inherit\; font-feature-settings: inherit\; font-variation-settings: inherit\; font-language-override: inherit\; margin: 0px\; padding: 0px\; vertical-align: baseline\; color: rgb(200\, 38\, 19) !important\; text-decoration-line: underline\;">Guest Presenter:</span><span style="border: 0px\; font-style: inherit\; font-variant-ligatures: inherit\; font-variant-caps: inherit\; font-variant-numeric: normal\; font-variant-east-asian: normal\; font-variant-alternates: normal\; font-variant-position: inherit\; font-variant-emoji: inherit\; font-weight: 700\; font-stretch: inherit\; font-size: inherit\; line-height: inherit\; font-family: Calibri\, sans-serif\; font-optical-sizing: inherit\; font-size-adjust: inherit\; font-kerning: inherit\; font-feature-settings: inherit\; font-variation-settings: inherit\; font-language-override: inherit\; margin: 0px\; padding: 0px\; vertical-align: baseline\; color: rgb(200\, 38\, 19) !important\;"><font size="4">&nbsp\;</font><a data-auth="NotApplicable" data-linkindex="1" href="https://www.linkedin.com/in/samantha-cleveland-16ba1169/" rel="noopener noreferrer" style="border: 0px\; font-style: inherit\; font-variant: inherit\; font-weight: inherit\; font-stretch: inherit\; font-size: 14pt\; line-height: inherit\; font-family: inherit\; font-optical-sizing: inherit\; font-size-adjust: inherit\; font-kerning: inherit\; font-feature-settings: inherit\; font-variation-settings: inherit\; font-language-override: inherit\; margin: 0px\; padding: 0px\; vertical-align: baseline\;" target="_blank" title="https://www.linkedin.com/in/samantha-cleveland-16ba1169/">Samantha Cleveland</a><font size="4">&nbsp\;</font></span><span style="border: 0px\; font: inherit\; margin: 0px\; padding: 0px\; vertical-align: baseline\; color: rgb(34\, 34\, 34) !important\;"><b><font size="4">is a creative professional and educator with over a decade of experience in nonprofits\, museums\, and cultural institutions. She holds a master&rsquo\;s degree in Museum Studies from the University of San Francisco and a bachelor&rsquo\;s degree in History of Art and Visual Culture from UC Santa Cruz.&nbsp\;</font></b></span></p>\n<br />\n<font size="4"><b>Samantha brings a strong background in arts administration\, communications\, development\, and public programming. Passionate about accessibility\, mental health and wellness initiatives\, and intergenerational engagement\, she is dedicated to creating inclusive\, meaningful experiences for diverse communities.&nbsp\;</b></font></div>\n
LOCATION:Renton Chamber of Commerce 625 S 4th Street\, Renton\, WA 98057
UID:e.16.30292
SEQUENCE:3
DTSTAMP:20260425T235701Z
URL:https://chamber.gorenton.com/events/details/ranu-renton-area-nonprofits-unite-02-25-2026-30292
END:VEVENT

END:VCALENDAR
