BEGIN:VCALENDAR
VERSION:2.0
PRODID:-//ChamberMaster//Event Calendar 2.0//EN
METHOD:PUBLISH
X-PUBLISHED-TTL:P3D
REFRESH-INTERVAL:P3D
CALSCALE:GREGORIAN
BEGIN:VEVENT
DTSTART:20210219T180000Z
DTEND:20210219T193000Z
X-MICROSOFT-CDO-ALLDAYEVENT:FALSE
SUMMARY:RapidRide I Line Business and Community Town Hall
DESCRIPTION:Join representatives from Metro and learn more about the stations and routes proposed for the RapidRide I Line.  Provide your feedback and have real time answers to your questions.
X-ALT-DESC;FMTTYPE=text/html:Join representatives from Metro and learn more about the stations and routes proposed for the RapidRide I Line.&nbsp\; Provide your feedback and have real time answers to your questions.
LOCATION:
UID:e.16.7874
SEQUENCE:3
DTSTAMP:20260420T213556Z
URL:https://chamber.gorenton.com/events/details/rapidride-i-line-business-and-community-town-hall-7874
END:VEVENT

END:VCALENDAR
