BEGIN:VCALENDAR
VERSION:2.0
PRODID:-//ChamberMaster//Event Calendar 2.0//EN
METHOD:PUBLISH
X-PUBLISHED-TTL:P3D
REFRESH-INTERVAL:P3D
CALSCALE:GREGORIAN
BEGIN:VEVENT
DTSTART:20251202T200000Z
DTEND:20251202T213000Z
X-MICROSOFT-CDO-ALLDAYEVENT:FALSE
SUMMARY:RCoC Ambassadors Meeting
DESCRIPTION:Our December Ambassadors meeting will be very casual and a great opportunity to support a small DTR business. We'll be gathering at Common Ground Coffee & Cupcakes\, right across the street from our November meeting spot. We'll also hear from one of our Board Members (TBA).\n\n\n\nCome enjoy a relaxed end-of-year meetup with good company and good coffee!
X-ALT-DESC;FMTTYPE=text/html:<h2>Our December Ambassadors meeting will be very casual and a great opportunity to support a small DTR business. We&rsquo\;ll be gathering at <strong data-end="403" data-start="368">Common Ground Coffee &amp\; Cupcakes</strong>\, right across the street from our November meeting spot. We&rsquo\;ll also hear from one of our Board Members (<strong data-end="515" data-start="508">TBA</strong>).<br />\n<br data-end="520" data-start="517" />\nCome enjoy a relaxed end-of-year meetup with good company and good coffee!</h2>\n
LOCATION:December Ambassador Meeting Host Common Ground Coffee & Cupcakes 900 S 3rd St\, Renton\, WA 98057
UID:e.16.26871
SEQUENCE:3
DTSTAMP:20260426T041720Z
URL:https://chamber.gorenton.com/events/details/rcoc-ambassadors-meeting-12-02-2025-26871
END:VEVENT

END:VCALENDAR
