BEGIN:VCALENDAR
VERSION:2.0
PRODID:-//ChamberMaster//Event Calendar 2.0//EN
METHOD:PUBLISH
X-PUBLISHED-TTL:P3D
REFRESH-INTERVAL:P3D
CALSCALE:GREGORIAN
BEGIN:VEVENT
DTSTART:20200221T010000Z
DTEND:20200221T030000Z
X-MICROSOFT-CDO-ALLDAYEVENT:FALSE
SUMMARY:Refuel Cafe - AFTER HOURS & Ribbon Cutting
DESCRIPTION:We invite you to join us this Thursday for our Renton Chamber After Hours with Refuel Cafe.\n\nWe will also have a Ribbon Cutting Ceremony at 5:30 pm
X-ALT-DESC;FMTTYPE=text/html:<p style="margin: 0in 0in 0pt\;"><span inline="" trebuchet="">&nbsp\;We invite you to join us this Thursday for our Renton Chamber After Hours with Refuel Cafe.</span><br />\nWe will also have a Ribbon Cutting Ceremony at 5:30 pm<br />\n&nbsp\;</p>\n
LOCATION:Refuel Cafe 401 Olympia Ave. NE\, Ste 102 Renton\, WA 98056
UID:e.16.6737
SEQUENCE:3
DTSTAMP:20260423T145017Z
URL:https://chamber.gorenton.com/events/details/refuel-cafe-after-hours-ribbon-cutting-6737
END:VEVENT

END:VCALENDAR
