BEGIN:VCALENDAR
VERSION:2.0
PRODID:-//ChamberMaster//Event Calendar 2.0//EN
METHOD:PUBLISH
X-PUBLISHED-TTL:P3D
REFRESH-INTERVAL:P3D
CALSCALE:GREGORIAN
BEGIN:VEVENT
DTSTART:20200808T170000Z
DTEND:20200808T183000Z
X-MICROSOFT-CDO-ALLDAYEVENT:FALSE
SUMMARY:Relay for Life of Greater Renton Tukwila- Virtual
DESCRIPTION:UPDATE: With our attention and focus as a nation to the health and well being of our communities\, we are turning the 2020 Relay For Life VIRTUAL! \n\n\n\nJoin us as we celebrate\, remember\, and fight back online from the safety and comfort of your own home!\n\n\n\nRelay For Life is a fun and inspirational fundraising event that brings together the community with a common goal -- to CURE cancer.\n\n\n\nWe have an incredible day planned for you and hope you can join us!\n\n\n\nWays to Get Involved with Relay for Life!\n\n\n\nForm a Team:\n\nHelp us raise the funds that will END cancer. Gather friends\, family\, or group and start a team. We welcome all ages to join the fight against cancer. Sign up today at www.relayforlife.org/rentonwa\n\n\n\nJoin as a Cancer Survivor:\n\nSurvivors are our guests of honor. Register as a Survivor and join the celebration! Sign up at www.relayforlife.org/rentonwa\n\n\n\nDedicate a Luminaria:\n\nAs darkness falls\, the track is illuminated by candle-lit luminaria\; each representing a life touched by cancer. Dedicate a luminaria and join us for this incredibly moving tribute to those who have battled cancer. Purchase a luminaria at www.relayforlife.org/rentonwa\n\n\n\nVisit www.relayforlife.org/rentonwa for more information!\n\n\n\nMark "going" on our Facebook event page to stay up to date on what to expect at our first ever virtual Relay For Life: https://www.facebook.com/events/305012530416429/\n\n\n\nMore Information:\n\n\n\nWhat is Relay For Life?\n\nRelay For Life is an inspirational\, non-competitive\, fundraising event that brings together a community of volunteers with a common goal--to CURE cancer.\n\n\n\nOver the course of the event\, we CELEBRATE cancer survivors\, REMEMBER those lost to cancer\, FIGHT BACK against a disease that has taken too much from too many\, and raise the funds that WILL finish the fight against cancer.\n\n\n\nIf you would like more information please contact us at Victoria.Do@cancer.org
X-ALT-DESC;FMTTYPE=text/html:<span style="color:rgb(29\, 33\, 41)\; font-family:helvetica\,arial\,sans-serif\; font-size:14px">UPDATE: With our attention and focus as a nation to the health and well being of our communities\, we are turning the 2020 Relay For Life VIRTUAL!&nbsp\;</span><br />\n<br />\n<span style="color:rgb(29\, 33\, 41)\; font-family:helvetica\,arial\,sans-serif\; font-size:14px">Join us as we celebrate\, remember\, and fight back online from the safety and comfort of your own home!</span><br />\n<br />\n<span style="color:rgb(29\, 33\, 41)\; font-family:helvetica\,arial\,sans-serif\; font-size:14px">Relay For Life is a fun and inspirational fundraising event that brings together the community with a common goal -- to CURE cancer.</span><br />\n<br />\n<span style="color:rgb(29\, 33\, 41)\; font-family:helvetica\,arial\,sans-serif\; font-size:14px">We have an incredible day planned for you and hope you can join us!</span><br />\n<br />\n<span style="color:rgb(29\, 33\, 41)\; font-family:helvetica\,arial\,sans-serif\; font-size:14px">Ways to Get Involved with Relay for Life!</span><br />\n<br />\n<span style="color:rgb(29\, 33\, 41)\; font-family:helvetica\,arial\,sans-serif\; font-size:14px">Form a Team:</span><br />\n<span style="color:rgb(29\, 33\, 41)\; font-family:helvetica\,arial\,sans-serif\; font-size:14px">Help us raise the funds that will END cancer. Gather friends\, family\, or group and start a team. We welcome all ages to join the fight against cancer. Sign up today at </span><a href="https://l.facebook.com/l.php?u=http%3A%2F%2Fwww.relayforlife.org%2Frentonwa%3Ffbclid%3DIwAR2pfVpxpjsm3aP-yZn4fGSflUuwHv0LPzwacw20pAQ4KAYfPUhCtg13zts&amp\;h=AT2EfaY7oGUM0NcPjCug4-pnje5snHVj7Sbi3CnM7RjaRRXI-WfnkpS3vzy3P1MoDAkmy8NrbBrjpcwK2P_8V0PI9XwGNww0Y7JyfGBS3lpWMQE4kG-dOozEVjYbd5ZGmQ" rel="nofollow noopener" style="color: rgb(56\, 88\, 152)\; cursor: pointer\; text-decoration-line: none\; font-family: Helvetica\, Arial\, sans-serif\; font-size: 14px\; white-space: pre-wrap\;" target="_blank">www.relayforlife.org/rentonwa</a><br />\n<br />\n<span style="color:rgb(29\, 33\, 41)\; font-family:helvetica\,arial\,sans-serif\; font-size:14px">Join as a Cancer Survivor:</span><br />\n<span style="color:rgb(29\, 33\, 41)\; font-family:helvetica\,arial\,sans-serif\; font-size:14px">Survivors are our guests of honor. Register as a Survivor and join the celebration! Sign up at </span><a href="https://l.facebook.com/l.php?u=http%3A%2F%2Fwww.relayforlife.org%2Frentonwa%3Ffbclid%3DIwAR38WSXp21RoTfGaPpfmoy-OrMMu6YceRIo_cXjgvJ2BOZ_jqDybpMBuzwE&amp\;h=AT2EfaY7oGUM0NcPjCug4-pnje5snHVj7Sbi3CnM7RjaRRXI-WfnkpS3vzy3P1MoDAkmy8NrbBrjpcwK2P_8V0PI9XwGNww0Y7JyfGBS3lpWMQE4kG-dOozEVjYbd5ZGmQ" rel="nofollow noopener" style="color: rgb(56\, 88\, 152)\; cursor: pointer\; text-decoration-line: none\; font-family: Helvetica\, Arial\, sans-serif\; font-size: 14px\; white-space: pre-wrap\;" target="_blank">www.relayforlife.org/rentonwa</a><br />\n<br />\n<span style="color:rgb(29\, 33\, 41)\; font-family:helvetica\,arial\,sans-serif\; font-size:14px">Dedicate a Luminaria:</span><br />\n<span style="color:rgb(29\, 33\, 41)\; font-family:helvetica\,arial\,sans-serif\; font-size:14px">As darkness falls\, the track is illuminated by candle-lit luminaria\; each representing a life touched by cancer. Dedicate a luminaria and join us for this incredibly moving tribute to those who have battled cancer. Purchase a luminaria at </span><a href="https://l.facebook.com/l.php?u=http%3A%2F%2Fwww.relayforlife.org%2Frentonwa%3Ffbclid%3DIwAR2656rqFJM5nySS-pe42ske-4fHhkJHFyFRsfZM2BEVBXtsBpfaHu1HeGE&amp\;h=AT2EfaY7oGUM0NcPjCug4-pnje5snHVj7Sbi3CnM7RjaRRXI-WfnkpS3vzy3P1MoDAkmy8NrbBrjpcwK2P_8V0PI9XwGNww0Y7JyfGBS3lpWMQE4kG-dOozEVjYbd5ZGmQ" rel="nofollow noopener" style="color: rgb(56\, 88\, 152)\; cursor: pointer\; text-decoration-line: none\; font-family: Helvetica\, Arial\, sans-serif\; font-size: 14px\; white-space: pre-wrap\;" target="_blank">www.relayforlife.org/rentonwa</a><br />\n<br />\n<span style="color:rgb(29\, 33\, 41)\; font-family:helvetica\,arial\,sans-serif\; font-size:14px">Visit </span><a href="http://www.relayforlife.org/rentonwa?fbclid=IwAR3N6Nm_l6bQM0cdCsqBZgOwWAexd-D8uvG2ZhnS-BRK3CLAzXt_V1OjPOM" rel="nofollow noopener" style="color: rgb(56\, 88\, 152)\; cursor: pointer\; text-decoration-line: none\; font-family: Helvetica\, Arial\, sans-serif\; font-size: 14px\; white-space: pre-wrap\;" target="_blank">www.relayforlife.org/rentonwa</a><span style="color:rgb(29\, 33\, 41)\; font-family:helvetica\,arial\,sans-serif\; font-size:14px"> for more information!<br />\n<br />\nMark &quot\;going&quot\; on our Facebook event page to stay up to date on what to expect at our first ever virtual Relay For Life:&nbsp\;</span><a href="https://www.facebook.com/events/305012530416429/">https://www.facebook.com/events/305012530416429/</a><br />\n<br />\n<span style="color:rgb(29\, 33\, 41)\; font-family:helvetica\,arial\,sans-serif\; font-size:14px">More Information:</span><br />\n<br />\n<span style="color:rgb(29\, 33\, 41)\; font-family:helvetica\,arial\,sans-serif\; font-size:14px">What is Relay For Life?</span><br />\n<span style="color:rgb(29\, 33\, 41)\; font-family:helvetica\,arial\,sans-serif\; font-size:14px">Relay For Life is an inspirational\, non-competitive\, fundraising event that brings together a community of volunteers with a common goal--to CURE cancer.</span><br />\n<br />\n<span style="color:rgb(29\, 33\, 41)\; font-family:helvetica\,arial\,sans-serif\; font-size:14px">Over the course of the event\, we CELEBRATE cancer survivors\, REMEMBER those lost to cancer\, FIGHT BACK against a disease that has taken too much from too many\, and raise the funds that WILL finish the fight against cancer.</span><br />\n<br />\n<span style="color:rgb(29\, 33\, 41)\; font-family:helvetica\,arial\,sans-serif\; font-size:14px">If you would like more information please contact us at Victoria.Do@cancer.org</span>
LOCATION:https://www.facebook.com/events/305012530416429/
UID:e.16.6789
SEQUENCE:3
DTSTAMP:20260421T052740Z
URL:https://chamber.gorenton.com/events/details/relay-for-life-of-greater-renton-tukwila-virtual-6789
END:VEVENT

END:VCALENDAR
