BEGIN:VCALENDAR
VERSION:2.0
PRODID:-//ChamberMaster//Event Calendar 2.0//EN
METHOD:PUBLISH
X-PUBLISHED-TTL:P3D
REFRESH-INTERVAL:P3D
CALSCALE:GREGORIAN
BEGIN:VEVENT
DTSTART:20190622T010000Z
DTEND:20190622T150000Z
X-MICROSOFT-CDO-ALLDAYEVENT:FALSE
SUMMARY:Relay for Life of Renton
DESCRIPTION:Relay For Life of Renton has been around since 1998 here in the Renton community. Relay For Life is such an amazing event bringing together one community in the fight against cancer! There are many components to this event such as a free dinner for cancer survivors and their caregivers\, speakers\, ceremonies\, on-site games and fundrasiers\, food\, and walking around the track at Renton Memorial Stadium if you can. Walking is not neccessary for those unable to. We come together for one night\, bring the energy\, and show cancer they we will not stop fighting until we find a cure for all types of cancer!\n\n\n\nJoin us at this event which bring communities together to remember loved ones lost\, honor survivors of all cancers\, and raise money to help the American Cancer Society make a global impact on cancer.\n\n\n\nTo register for this event\, please visit www.RelayforLife.org/RentonWA and join us in the battle against cancer!
X-ALT-DESC;FMTTYPE=text/html:<span style="font-size:12px"><span style="font-family:arial\,helvetica\,sans-serif">Relay For Life of Renton has been around since 1998 here in the Renton community. Relay For Life is such an amazing event bringing together one community in the fight against cancer! There are many components to this event such as a free dinner for cancer survivors and their caregivers\, speakers\, ceremonies\, on-site games and fundrasiers\, food\, and walking around the track at Renton Memorial Stadium if you can. Walking is not neccessary for those unable to. We come together for one night\, bring the energy\, and show cancer they we will not stop fighting until we find a cure for all types of cancer!<br />\n<br />\n<span style="background-color:rgb(255\, 255\, 255)\; color:rgb(30\, 30\, 35)">Join us at this event which bring communities together to remember loved ones lost\, honor survivors of all cancers\, and raise money to help the American Cancer Society make a global impact on cancer.</span><br />\n<br />\nTo register for this event\, please visit www.RelayforLife.org/RentonWA and join us in the battle against cancer! </span></span><br />\n<br />\n&nbsp\;
LOCATION:Renton Memorial Stadium 405 Logan Ave N\, Renton\, WA 98057
UID:e.16.5984
SEQUENCE:3
DTSTAMP:20260424T035344Z
URL:https://chamber.gorenton.com/events/details/relay-for-life-of-renton-5984
END:VEVENT

END:VCALENDAR
