BEGIN:VCALENDAR
VERSION:2.0
PRODID:-//ChamberMaster//Event Calendar 2.0//EN
METHOD:PUBLISH
X-PUBLISHED-TTL:P3D
REFRESH-INTERVAL:P3D
CALSCALE:GREGORIAN
BEGIN:VEVENT
DTSTART:20190109T020000Z
DTEND:20190109T030000Z
X-MICROSOFT-CDO-ALLDAYEVENT:FALSE
SUMMARY:Relay for Life Open House Kick Off Meeting
DESCRIPTION:Come learn how you can get involved in the fight againt cancer!\n\n\n\nRelay for Life is the signature fundraiser of the American Cancer Society. We hold an annual Relay for Life in Renton every Spring and would love for you to be involved!\n\n\n\nWe are holding on open house meeting for those who have been involved and those wanting to learn how they can get invovled in this special community event! \n\n\n\nThis is open to anyone who wants to make a difference in the fight against cancer. We are looking for people who want to sign up a team to walk at this event\, cancer survivors\, speakers\, and sponsors!\n\n\n\nCheck out our FB event page for more details!\n\n\n\nhttps://www.facebook.com/events/299543134223907/
X-ALT-DESC;FMTTYPE=text/html:Come learn how you can get involved in the fight againt cancer!<br />\n<br />\nRelay for Life is the signature fundraiser of the American Cancer Society. We hold an annual Relay for Life in Renton every Spring and would love for you to be involved!<br />\n<br />\nWe are holding on open house meeting for those who have been involved and those wanting to learn how they can get invovled in this special community event!&nbsp\;<br />\n<br />\nThis is open to anyone who wants to make a difference in the fight against cancer. We are looking for people who want to sign up a team to walk at this event\, cancer survivors\, speakers\, and sponsors!<br />\n<br />\nCheck out our FB event page for more details!<br />\n<br />\nhttps://www.facebook.com/events/299543134223907/<br />\n&nbsp\;
LOCATION:Renton Merrill Gardens 104 Burnett Ave S\, Renton\, WA 98057
UID:e.16.5983
SEQUENCE:3
DTSTAMP:20260424T093244Z
URL:https://chamber.gorenton.com/events/details/relay-for-life-open-house-kick-off-meeting-5983
END:VEVENT

END:VCALENDAR
