BEGIN:VCALENDAR
VERSION:2.0
PRODID:-//ChamberMaster//Event Calendar 2.0//EN
METHOD:PUBLISH
X-PUBLISHED-TTL:P3D
REFRESH-INTERVAL:P3D
CALSCALE:GREGORIAN
BEGIN:VEVENT
DTSTART:20220708T160000Z
DTEND:20220710T000000Z
X-MICROSOFT-CDO-ALLDAYEVENT:FALSE
SUMMARY:Renton American Legion Auxiliary Unit 19 Rummage Sale
DESCRIPTION:Rummage Sale\, Large variety of mixed items Rain or Shine *All proceeds to benefit U.S. Veterans\, their Families\, and Community Programs sponsored by American Legion Auxiliary Unit 19
X-ALT-DESC;FMTTYPE=text/html:Rummage Sale\, Large variety of mixed items Rain or Shine *All proceeds to benefit U.S. Veterans\, their Families\, and Community Programs sponsored by American Legion Auxiliary Unit 19
LOCATION:3224 NE 12th Renton 98056 At American Legion Fred Hancock Post 19
UID:e.16.13431
SEQUENCE:3
DTSTAMP:20260419T220224Z
URL:https://chamber.gorenton.com/events/details/renton-american-legion-auxiliary-unit-19-rummage-sale-13431
END:VEVENT

END:VCALENDAR
