BEGIN:VCALENDAR
VERSION:2.0
PRODID:-//ChamberMaster//Event Calendar 2.0//EN
METHOD:PUBLISH
X-PUBLISHED-TTL:P3D
REFRESH-INTERVAL:P3D
CALSCALE:GREGORIAN
BEGIN:VEVENT
DTSTART:20260530T220000Z
DTEND:20260601T030000Z
X-MICROSOFT-CDO-ALLDAYEVENT:FALSE
SUMMARY:Renton Art Oasis Presents: Tiny Wonders
DESCRIPTION:Tiny Wonders is a two-day celebration of small-scale artwork created by talented local artists   intimate pieces that invite you to look closely and linger longer.\n\nJoin us at the cozy\, welcoming atmosphere of Drum Roll Wine as our community comes together to discover original works you can take home and treasure. Browse at your own pace\, connect with local creators\, and enjoy complimentary refreshments and appetizers throughout the event.\n\nAdmission is free and all are welcome. Whether you're a longtime art lover or simply curious\, Tiny Wonders is the perfect place to experience the beauty of art made right here in Renton.
X-ALT-DESC;FMTTYPE=text/html:<p>Tiny Wonders is a two-day celebration of small-scale artwork created by talented local artists &mdash\; intimate pieces that invite you to look closely and linger longer.</p>\n\n<p>Join us at the cozy\, welcoming atmosphere of Drum Roll Wine as our community comes together to discover original works you can take home and treasure. Browse at your own pace\, connect with local creators\, and enjoy complimentary refreshments and appetizers throughout the event.</p>\n\n<p>Admission is free and all are welcome. Whether you&#39\;re a longtime art lover or simply curious\, Tiny Wonders is the perfect place to experience the beauty of art made right here in Renton.</p>\n
LOCATION:May 30\, 2026\, 3:00 PM May 31\, 2026\, 7:00 PM Drum Roll Wine\, 911 S 3rd St\, Renton\, WA 98057\, USA
UID:e.16.32737
SEQUENCE:3
DTSTAMP:20260425T222726Z
URL:https://chamber.gorenton.com/events/details/renton-art-oasis-presents-tiny-wonders-32737
END:VEVENT

END:VCALENDAR
