BEGIN:VCALENDAR
VERSION:2.0
PRODID:-//ChamberMaster//Event Calendar 2.0//EN
METHOD:PUBLISH
X-PUBLISHED-TTL:P3D
REFRESH-INTERVAL:P3D
CALSCALE:GREGORIAN
BEGIN:VEVENT
DTSTART:20211228T180000Z
DTEND:20211230T010000Z
X-MICROSOFT-CDO-ALLDAYEVENT:FALSE
SUMMARY:Renton December Blood Drive Pop-Up
DESCRIPTION:DONATE @ RENTON POP-UP BLOOD DRIVE\n\nDecember 28th & 29th \n\n \n\nJoin us as City of Renton and Bloodworks Northwest work together again to support our local hospitals and patients by giving blood.\n\n"On Dec. 18\, 2017\, Portland-bound Amtrak train 501 derailed and injured passengers were transported to local hospitals and cared for with the blood donations made by the community.\n\n \n\nIf that had happened this year\, the outcome may have been different.  With the current regional and national blood shortage\, it may have been that there would not have been enough blood available for the patients. \n\n \n\nHelp ensure that we have a strong blood supply for the next major accident\, newly diagnosed cancer patient or pregnant mother. \n\n \n\nAnswer the call and give blood @ Renton's Community Center Pop-Up on December 28th and 29th. \n\n\n\nDonating blood is an essential and encouraged activity critical to sustaining community healthcare\, especially during emergencies. Your one-hour donation appointment is a safe action to support local hospitals and patients. Pop-Up Donor Centers are being conducted in accordance with social distancing guidelines.\n\n \n\n No walk-ins\, guests\, or people under age 16 are permitted onsite. Donors are asked to bring a mask/face covering to your donation and appointments are required.
X-ALT-DESC;FMTTYPE=text/html:<span style="font-family:tahoma"><strong><span style="font-size:20px"><span style="color:red">DONATE <span style="color:red">@ RENTON POP-UP BLOOD DRIVE</span></span></span><br />\n<span style="color:black"><span style="font-size:16.0pt">December 28th &amp\; 29th&nbsp\;</span></span></strong><br />\n&nbsp\;<br />\n<span style="color:black"><span style="font-size:14.0pt">Join us as <strong>City of Renton</strong> and <strong>Bloodworks Northwes</strong>t work together again to support our local hospitals and patients by giving blood.<br />\n&ldquo\;On Dec. 18\, 2017\, Portland-bound Amtrak train 501 derailed and injured passengers were transported to local hospitals and cared for with the blood donations made by the community.</span></span><br />\n&nbsp\;<br />\n<span style="color:black"><span style="font-size:14.0pt">If that had happened this year\, the outcome may have been different.&nbsp\; With the current regional and national blood shortage\, it may have been that there would not have been enough blood available for the patients. </span></span><br />\n&nbsp\;<br />\n<span style="color:black"><span style="font-size:14.0pt">Help ensure that we have a strong blood supply for the next major accident\, newly diagnosed cancer patient or pregnant mother.&nbsp\;</span></span><br />\n&nbsp\;<br />\n<span style="color:black"><span style="font-size:14.0pt">Answer the call and give blood @ Renton&#39\;s Community Center Pop-Up on December 28th and 29th.&nbsp\;</span></span><br />\n<br />\n<span style="color:red"><span style="font-size:14.0pt">Donating blood is an essential and encouraged activity</span></span> <span style="color:black"><span style="font-size:14.0pt">critical to sustaining community healthcare\, especially during emergencies.</span></span><span style="font-size:14.0pt"> <span style="color:black">Your one-hour donation appointment is a safe action to support local hospitals and<span style="font-size:18px"> </span></span></span><span style="font-size:18px">patients. Pop-Up Donor Centers are being conducted in accordance with social distancing guidelines.</span></span><br />\n&nbsp\;<br />\n&nbsp\;<em><span style="color:black"><span style="font-family:segoe ui\,sans-serif"><span style="font-size:12.0pt">No walk-ins\, guests\, or people under age 16 are permitted onsite. Donors are asked to bring a mask/face covering to your donation and </span></span></span></em><strong><em><span style="color:red"><span style="font-family:segoe ui\,sans-serif"><span style="font-size:12.0pt">appointments are required.</span></span></span></em></strong>
LOCATION:1715 Maple Valley Hwy\, Renton\, WA
UID:e.16.10643
SEQUENCE:3
DTSTAMP:20260420T073940Z
URL:https://chamber.gorenton.com/events/details/renton-december-blood-drive-pop-up-10643
END:VEVENT

END:VCALENDAR
