BEGIN:VCALENDAR
VERSION:2.0
PRODID:-//ChamberMaster//Event Calendar 2.0//EN
METHOD:PUBLISH
X-PUBLISHED-TTL:P3D
REFRESH-INTERVAL:P3D
CALSCALE:GREGORIAN
BEGIN:VEVENT
DTSTART:20221008T170000Z
DTEND:20221008T183000Z
X-MICROSOFT-CDO-ALLDAYEVENT:FALSE
SUMMARY:Renton Downtown Historic Walking Tours
DESCRIPTION:Enjoy a guided tour through downtown to learn about some of our most notable buildings and imagine Renton when it was a start-up mining town\, a bustling district modernizing after WWII\, and as it was redefining its image for the new millennium.\n\nChoose between two 1-hour tours at 10 am and 1 pm\, or book them both and have a leisurely lunch at one of our many downtown restaurants with some bonus time for shopping!\n\nEach tour visits at least 10 curated locations around downtown\, spanning from some of our oldest buildings like the Snoqualmie Falls Power Company Substation to newer buildings tied to local history\, like Luther's Table.\n\nPurchase of a $25 ticket includes a tour\, a tote bag\, an admission ticket for the Renton History Museum\, and a program.\n\nTours are likely to sell out\, so lock down your tickets early!
X-ALT-DESC;FMTTYPE=text/html:<div>Enjoy a guided tour through downtown to learn about some of our most notable buildings and imagine Renton when it was a start-up mining town\, a bustling district modernizing after WWII\, and as it was redefining its image for the new millennium.</div>\n\n<div>Choose between two 1-hour tours at 10 am and 1 pm\, or book them both and have a leisurely lunch at one of our many downtown restaurants with some bonus time for shopping!</div>\n\n<div>Each tour visits at least 10 curated locations around downtown\, spanning from some of our oldest buildings like the Snoqualmie Falls Power Company Substation to newer buildings tied to local history\, like Luther&#39\;s Table.</div>\n\n<div>Purchase of a $25 ticket includes a tour\, a tote bag\, an admission ticket for the Renton History Museum\, and a program.</div>\n\n<div>Tours are likely to sell out\, so lock down your tickets early!</div>\n
LOCATION:We start at the History Museum 235 Mill Ave S\, Renton\, WA 98057
UID:e.16.13600
SEQUENCE:3
DTSTAMP:20260419T190006Z
URL:https://chamber.gorenton.com/events/details/renton-downtown-historic-walking-tours-13600
END:VEVENT

END:VCALENDAR
