BEGIN:VCALENDAR
VERSION:2.0
PRODID:-//ChamberMaster//Event Calendar 2.0//EN
METHOD:PUBLISH
X-PUBLISHED-TTL:P3D
REFRESH-INTERVAL:P3D
CALSCALE:GREGORIAN
BEGIN:VEVENT
DTSTART:20211014T170000Z
DTEND:20211014T210000Z
X-MICROSOFT-CDO-ALLDAYEVENT:FALSE
SUMMARY:Renton Drop In Business Coaching Sessions
DESCRIPTION:Are you thinking of starting a business?\n\nDo you already have a business but want it to grow?\n\nAre you facing a business puzzle that you'd like help with?\n\n \n\nJoin us for free drop-in Business Coaching Days on the second Thursday of each month from 10am to 2pm.\n\n***remaining 2021 Drop-in Coaching sessions will remain virtual on Zoom. Please use the reservation link: https://calendly.com/dropincalendar.***\n\nNote: Please limit reservations to one session.
X-ALT-DESC;FMTTYPE=text/html:<p>Are you thinking of starting a business?</p>\n\n<p>Do you already have a business but want it to grow?</p>\n\n<p>Are you facing a business puzzle that you&rsquo\;d like help with?</p>\n\n<p>&nbsp\;</p>\n\n<p>Join us for free drop-in Business Coaching Days on&nbsp\;<strong>the second Thursday of each month from 10am to 2pm.</strong></p>\n\n<p>***<span style="font-family:&quot\;Trebuchet MS&quot\;\,sans-serif">remaining 2021 <b><i>Drop-in Coaching sessions</i></b> will remain virtual on Zoom. Please use the reservation link: <span style="color:#1F4E79"><a href="https://calendly.com/dropincalendar"><span style="color:#1F4E79">https://calendly.com/dropincalendar</span></a></span></span>.***</p>\n\n<p><strong>Note: Please limit reservations to one session.&nbsp\;</strong></p>\n
LOCATION:Click here to register with Business Impact NW
UID:e.16.7108
SEQUENCE:3
DTSTAMP:20260420T103026Z
URL:https://chamber.gorenton.com/events/details/renton-drop-in-business-coaching-sessions-10-14-2021-7108
END:VEVENT

END:VCALENDAR
