BEGIN:VCALENDAR
VERSION:2.0
PRODID:-//ChamberMaster//Event Calendar 2.0//EN
METHOD:PUBLISH
X-PUBLISHED-TTL:P3D
REFRESH-INTERVAL:P3D
CALSCALE:GREGORIAN
BEGIN:VEVENT
DTSTART:20190908T000000Z
DTEND:20190908T064500Z
X-MICROSOFT-CDO-ALLDAYEVENT:FALSE
SUMMARY:Renton High Class of 1969 50yr Reunion
DESCRIPTION:Casual dinner event Saturday with Smokehouse BBQ Buffet\, music and video . BYOB Also planned: golf at Maplewood\, tour of the school\, and social gathering at Luther's Table on Friday.
X-ALT-DESC;FMTTYPE=text/html:Casual dinner event Saturday with Smokehouse BBQ Buffet\, music and video . BYOB Also planned: golf at Maplewood\, tour of the school\, and social gathering at Luther&#39\;s Table on Friday.
LOCATION:Renton Community Center 1715 Maple Valley Hwy Renton
UID:e.16.6574
SEQUENCE:3
DTSTAMP:20260423T215756Z
URL:https://chamber.gorenton.com/events/details/renton-high-class-of-1969-50yr-reunion-6574
END:VEVENT

END:VCALENDAR
