BEGIN:VCALENDAR
VERSION:2.0
PRODID:-//ChamberMaster//Event Calendar 2.0//EN
METHOD:PUBLISH
X-PUBLISHED-TTL:P3D
REFRESH-INTERVAL:P3D
CALSCALE:GREGORIAN
BEGIN:VEVENT
DTSTART:20180728T190000Z
DTEND:20180728T230000Z
X-MICROSOFT-CDO-ALLDAYEVENT:FALSE
SUMMARY:Renton History Live! Four Women Who Rocked Renton
DESCRIPTION:Renton History Live! Four Women Who Rocked Renton Saturday\, July 28 Noon to 4:00 pm\, performances on the hour Renton History Live! is a program produced by the Renton History Museum. It takes real historical Renton residents and brings their stories to life through theater. A WOMAN'S WORK IS NEVER DONE: Fall of 1918\, three women suspect the illegal sales of alcohol out of a local pharmacy. Their actions defy traditional norms and instead embrace the principles of the Women's Movement. THE MURDER OF MR. ANROONEY: A 1930's murder case goes to court. Is the defendant Marlene Collier innocent or guilty? Come at noon after the Renton River Days parade or if you want to avoid the crowd come later in the afternoon!
X-ALT-DESC;FMTTYPE=text/html:Renton History Live! Four Women Who Rocked Renton Saturday\, July 28 Noon to 4:00 pm\, performances on the hour Renton History Live! is a program produced by the Renton History Museum. It takes real historical Renton residents and brings their stories to life through theater. A WOMAN&#39\;S WORK IS NEVER DONE: Fall of 1918\, three women suspect the illegal sales of alcohol out of a local pharmacy. Their actions defy traditional norms and instead embrace the principles of the Women&rsquo\;s Movement. THE MURDER OF MR. ANROONEY: A 1930&rsquo\;s murder case goes to court. Is the defendant Marlene Collier innocent or guilty? Come at noon after the Renton River Days parade or if you want to avoid the crowd come later in the afternoon!
LOCATION:Renton History Museum 235 Mill Ave S Renton\, WA 98057
UID:e.16.5877
SEQUENCE:3
DTSTAMP:20260424T183819Z
URL:https://chamber.gorenton.com/events/details/renton-history-live-four-women-who-rocked-renton-5877
END:VEVENT

END:VCALENDAR
