BEGIN:VCALENDAR
VERSION:2.0
PRODID:-//ChamberMaster//Event Calendar 2.0//EN
METHOD:PUBLISH
X-PUBLISHED-TTL:P3D
REFRESH-INTERVAL:P3D
CALSCALE:GREGORIAN
BEGIN:VEVENT
DTSTART:20220213T180000Z
DTEND:20220214T000000Z
X-MICROSOFT-CDO-ALLDAYEVENT:FALSE
SUMMARY:Renton History Museum Bouquet Fundraiser
DESCRIPTION:Swing by the Museum to get a fresh flower bouquet for Valentine's Day! Get flowers for a friend\, your sweetheart\, or even yourself! Bouquets are $30 and $20 of each purchase goes to the Renton Historical Society. Supplies are limited\, so hurry over on Feb. 13 or preorder at https://givebutter.com/rentonhistorymuseum to buy your flowers and support Renton's local history museum and their upcoming marriage exhibit\, "With This Ring." This event is generously sponsored by AE Events & Design: https://www.facebook.com/aeeventdesign.
X-ALT-DESC;FMTTYPE=text/html:Swing by the Museum to get a fresh flower bouquet for Valentine&#39\;s Day! Get flowers for a friend\, your sweetheart\, or even yourself! Bouquets are $30 and $20 of each purchase goes to the Renton Historical Society. Supplies are limited\, so hurry over on Feb. 13 or preorder at https://givebutter.com/rentonhistorymuseum to buy your flowers and support Renton&#39\;s local history museum and their upcoming marriage exhibit\, &quot\;With This Ring.&quot\; This event is generously sponsored by AE Events &amp\; Design: https://www.facebook.com/aeeventdesign.
LOCATION:235 Mill Ave. S Renton\, WA 98057
UID:e.16.11350
SEQUENCE:3
DTSTAMP:20260420T043017Z
URL:https://chamber.gorenton.com/events/details/renton-history-museum-bouquet-fundraiser-11350
END:VEVENT

END:VCALENDAR
