BEGIN:VCALENDAR
VERSION:2.0
PRODID:-//ChamberMaster//Event Calendar 2.0//EN
METHOD:PUBLISH
X-PUBLISHED-TTL:P3D
REFRESH-INTERVAL:P3D
CALSCALE:GREGORIAN
BEGIN:VEVENT
DTSTART;VALUE=DATE:20220504
DTEND;VALUE=DATE:20220505
TRANSP:TRANSPARENT
X-MICROSOFT-CDO-ALLDAYEVENT:TRUE
SUMMARY:Renton History Museum Free Day!
DESCRIPTION:There's always something going on at the Renton History Museum! Located in a historic Art Deco firehouse\, the Renton History Museum offers changing exhibits\, programs\, publications\, and events to share Renton's stories\, past and present. If you've been looking for an affordable opportunity to bring the entire family to the museum\, join us on the first Wednesday or third Saturday of every month. Admission to the Museum is absolutely FREE!
X-ALT-DESC;FMTTYPE=text/html:There&#39\;s always something going on at the Renton History Museum! Located in a historic Art Deco firehouse\, the Renton History Museum offers changing exhibits\, programs\, publications\, and events to share Renton&#39\;s stories\, past and present. If you&#39\;ve been looking for an affordable opportunity to bring the entire family to the museum\, join us on the first Wednesday or third Saturday of every month. Admission to the Museum is absolutely FREE!
LOCATION:Renton History Museum 235 Mill Avenue South Renton\, WA 98057
UID:e.16.5175
SEQUENCE:3
DTSTAMP:20260420T014459Z
URL:https://chamber.gorenton.com/events/details/renton-history-museum-free-day-05-04-2022-5175
END:VEVENT

END:VCALENDAR
