BEGIN:VCALENDAR
VERSION:2.0
PRODID:-//ChamberMaster//Event Calendar 2.0//EN
METHOD:PUBLISH
X-PUBLISHED-TTL:P3D
REFRESH-INTERVAL:P3D
CALSCALE:GREGORIAN
BEGIN:VEVENT
DTSTART:20210814T155000Z
DTEND:20210815T060000Z
X-MICROSOFT-CDO-ALLDAYEVENT:FALSE
SUMMARY:Renton Lions Club Highway Clean Up - August 2021
DESCRIPTION:Another Renton Lions Club Highway Cleanup is upcoming! Grab your face masks and some friends for a morning of beautifying the community! \n\n \n\n~ Garbage pickers\, fluorescent vests & garbage bags will be provided \n\n \n\n~ Bring your own gloves\, snacks\, and water (if desired) \n\n \n\n~ Masks or face coverings are required! \n\n\n\n \n\n\n\nGet ready for a ton of fun!!
X-ALT-DESC;FMTTYPE=text/html:<div class="OutlineElement Ltr  BCX8 SCXW19795370" style="margin: 0px\; padding: 0px\; user-select: text\; -webkit-user-drag: none\; -webkit-tap-highlight-color: transparent\; overflow: visible\; cursor: text\; clear: both\; position: relative\; direction: ltr\; color: rgb(0\, 0\, 0)\; font-family: &quot\;Segoe UI&quot\;\, &quot\;Segoe UI Web&quot\;\, Arial\, Verdana\, sans-serif\; font-size: 12px\;">\n<p class="Paragraph SCXW19795370 BCX8" lang="EN-US" paraeid="{df6649c3-b081-4529-b283-66aaf642eb4e}{35}" paraid="1151710978" style="margin: 0px\; padding: 0px\; user-select: text\; -webkit-user-drag: none\; -webkit-tap-highlight-color: transparent\; overflow-wrap: break-word\; vertical-align: baseline\; font-kerning: none\; background-color: transparent\; color: windowtext\;" xml:lang="EN-US"><span style="font-size:14px\;"><span style="font-family:times new roman\;"><span class="TextRun SCXW19795370 BCX8" data-contrast="auto" lang="EN-US" style="margin: 0px\; padding: 0px\; user-select: text\; -webkit-user-drag: none\; -webkit-tap-highlight-color: transparent\; font-variant-numeric: normal\; font-variant-east-asian: normal\; color: windowtext\; font-style: normal\; line-height: 19.425px\;" xml:lang="EN-US">Another Renton Lions Club Highway Cleanup is upcoming! Grab your face masks and some friends for a morning of beautifying the community!</span><span class="LineBreakBlob BlobObject DragDrop SCXW19795370 BCX8" style="margin: 0px\; padding: 0px\; user-select: text\; -webkit-user-drag: none\; -webkit-tap-highlight-color: transparent\; line-height: 19.425px\; color: windowtext\;"><span class="SCXW19795370 BCX8" style="margin: 0px\; padding: 0px\; user-select: text\; -webkit-user-drag: none\; -webkit-tap-highlight-color: transparent\; white-space: pre !important\;">&nbsp\;</span></span><br class="SCXW19795370 BCX8" style="margin: 0px\; padding: 0px\; user-select: text\; -webkit-user-drag: none\; -webkit-tap-highlight-color: transparent\; white-space: pre !important\;" />\n<span class="LineBreakBlob BlobObject DragDrop SCXW19795370 BCX8" style="margin: 0px\; padding: 0px\; user-select: text\; -webkit-user-drag: none\; -webkit-tap-highlight-color: transparent\; line-height: 19.425px\; color: windowtext\;"><span class="SCXW19795370 BCX8" style="margin: 0px\; padding: 0px\; user-select: text\; -webkit-user-drag: none\; -webkit-tap-highlight-color: transparent\; white-space: pre !important\;">&nbsp\;</span></span><br class="SCXW19795370 BCX8" style="margin: 0px\; padding: 0px\; user-select: text\; -webkit-user-drag: none\; -webkit-tap-highlight-color: transparent\; white-space: pre !important\;" />\n<span class="TextRun SCXW19795370 BCX8" data-contrast="auto" lang="EN-US" style="margin: 0px\; padding: 0px\; user-select: text\; -webkit-user-drag: none\; -webkit-tap-highlight-color: transparent\; font-variant-numeric: normal\; font-variant-east-asian: normal\; color: windowtext\; font-style: normal\; line-height: 19.425px\;" xml:lang="EN-US">~ Garbage pickers\, fluorescent vests &amp\; garbage bags will be provided</span><span class="LineBreakBlob BlobObject DragDrop SCXW19795370 BCX8" style="margin: 0px\; padding: 0px\; user-select: text\; -webkit-user-drag: none\; -webkit-tap-highlight-color: transparent\; line-height: 19.425px\; color: windowtext\;"><span class="SCXW19795370 BCX8" style="margin: 0px\; padding: 0px\; user-select: text\; -webkit-user-drag: none\; -webkit-tap-highlight-color: transparent\; white-space: pre !important\;">&nbsp\;</span></span><br class="SCXW19795370 BCX8" style="margin: 0px\; padding: 0px\; user-select: text\; -webkit-user-drag: none\; -webkit-tap-highlight-color: transparent\; white-space: pre !important\;" />\n<span class="LineBreakBlob BlobObject DragDrop SCXW19795370 BCX8" style="margin: 0px\; padding: 0px\; user-select: text\; -webkit-user-drag: none\; -webkit-tap-highlight-color: transparent\; line-height: 19.425px\; color: windowtext\;"><span class="SCXW19795370 BCX8" style="margin: 0px\; padding: 0px\; user-select: text\; -webkit-user-drag: none\; -webkit-tap-highlight-color: transparent\; white-space: pre !important\;">&nbsp\;</span></span><br class="SCXW19795370 BCX8" style="margin: 0px\; padding: 0px\; user-select: text\; -webkit-user-drag: none\; -webkit-tap-highlight-color: transparent\; white-space: pre !important\;" />\n<span class="TextRun SCXW19795370 BCX8" data-contrast="auto" lang="EN-US" style="margin: 0px\; padding: 0px\; user-select: text\; -webkit-user-drag: none\; -webkit-tap-highlight-color: transparent\; font-variant-numeric: normal\; font-variant-east-asian: normal\; color: windowtext\; font-style: normal\; line-height: 19.425px\;" xml:lang="EN-US">~ Bring your own gloves\, snacks\, and water (if desired)</span><span class="LineBreakBlob BlobObject DragDrop SCXW19795370 BCX8" style="margin: 0px\; padding: 0px\; user-select: text\; -webkit-user-drag: none\; -webkit-tap-highlight-color: transparent\; line-height: 19.425px\; color: windowtext\;"><span class="SCXW19795370 BCX8" style="margin: 0px\; padding: 0px\; user-select: text\; -webkit-user-drag: none\; -webkit-tap-highlight-color: transparent\; white-space: pre !important\;">&nbsp\;</span></span><br class="SCXW19795370 BCX8" style="margin: 0px\; padding: 0px\; user-select: text\; -webkit-user-drag: none\; -webkit-tap-highlight-color: transparent\; white-space: pre !important\;" />\n<span class="LineBreakBlob BlobObject DragDrop SCXW19795370 BCX8" style="margin: 0px\; padding: 0px\; user-select: text\; -webkit-user-drag: none\; -webkit-tap-highlight-color: transparent\; line-height: 19.425px\; color: windowtext\;"><span class="SCXW19795370 BCX8" style="margin: 0px\; padding: 0px\; user-select: text\; -webkit-user-drag: none\; -webkit-tap-highlight-color: transparent\; white-space: pre !important\;">&nbsp\;</span></span><br class="SCXW19795370 BCX8" style="margin: 0px\; padding: 0px\; user-select: text\; -webkit-user-drag: none\; -webkit-tap-highlight-color: transparent\; white-space: pre !important\;" />\n<span class="TextRun SCXW19795370 BCX8" data-contrast="auto" lang="EN-US" style="margin: 0px\; padding: 0px\; user-select: text\; -webkit-user-drag: none\; -webkit-tap-highlight-color: transparent\; font-variant-numeric: normal\; font-variant-east-asian: normal\; color: windowtext\; font-style: normal\; line-height: 19.425px\;" xml:lang="EN-US">~ Masks or face coverings are required!</span><span class="EOP SCXW19795370 BCX8" data-ccp-props="{&quot\;201341983&quot\;:0\,&quot\;335559739&quot\;:160\,&quot\;335559740&quot\;:259}" style="margin: 0px\; padding: 0px\; user-select: text\; -webkit-user-drag: none\; -webkit-tap-highlight-color: transparent\; line-height: 19.425px\; color: windowtext\;">&nbsp\;</span></span></span></p>\n</div>\n\n<div class="OutlineElement Ltr  BCX8 SCXW19795370" style="margin: 0px\; padding: 0px\; user-select: text\; -webkit-user-drag: none\; -webkit-tap-highlight-color: transparent\; overflow: visible\; cursor: text\; clear: both\; position: relative\; direction: ltr\; color: rgb(0\, 0\, 0)\; font-family: &quot\;Segoe UI&quot\;\, &quot\;Segoe UI Web&quot\;\, Arial\, Verdana\, sans-serif\; font-size: 12px\;">\n<p class="Paragraph SCXW19795370 BCX8" lang="EN-US" paraeid="{116c6587-4465-4ede-9bf6-ec57cc02fe08}{154}" paraid="1494448876" style="margin: 0px\; padding: 0px\; user-select: text\; -webkit-user-drag: none\; -webkit-tap-highlight-color: transparent\; overflow-wrap: break-word\; vertical-align: baseline\; font-kerning: none\; background-color: transparent\; color: windowtext\;" xml:lang="EN-US"><span style="font-size:14px\;"><span style="font-family:times new roman\;"><span class="EOP SCXW19795370 BCX8" data-ccp-props="{&quot\;201341983&quot\;:0\,&quot\;335559739&quot\;:160\,&quot\;335559740&quot\;:259}" style="margin: 0px\; padding: 0px\; user-select: text\; -webkit-user-drag: none\; -webkit-tap-highlight-color: transparent\; line-height: 19.425px\; color: windowtext\;">&nbsp\;</span></span></span></p>\n</div>\n\n<div class="OutlineElement Ltr  BCX8 SCXW19795370" style="margin: 0px\; padding: 0px\; user-select: text\; -webkit-user-drag: none\; -webkit-tap-highlight-color: transparent\; overflow: visible\; cursor: text\; clear: both\; position: relative\; direction: ltr\; color: rgb(0\, 0\, 0)\; font-family: &quot\;Segoe UI&quot\;\, &quot\;Segoe UI Web&quot\;\, Arial\, Verdana\, sans-serif\; font-size: 12px\;">\n<p class="Paragraph SCXW19795370 BCX8" lang="EN-US" paraeid="{116c6587-4465-4ede-9bf6-ec57cc02fe08}{247}" paraid="225445660" style="margin: 0px\; padding: 0px\; user-select: text\; -webkit-user-drag: none\; -webkit-tap-highlight-color: transparent\; overflow-wrap: break-word\; vertical-align: baseline\; font-kerning: none\; background-color: transparent\; color: windowtext\;" xml:lang="EN-US"><span style="font-size:14px\;"><span style="font-family:times new roman\;"><span class="TextRun SCXW19795370 BCX8" data-contrast="none" lang="EN-US" style="margin: 0px\; padding: 0px\; user-select: text\; -webkit-user-drag: none\; -webkit-tap-highlight-color: transparent\; font-variant-numeric: normal\; font-variant-east-asian: normal\; font-style: normal\; line-height: 19.425px\;" xml:lang="EN-US">Get ready for a ton of fun!!</span><span class="EOP SCXW19795370 BCX8" data-ccp-props="{&quot\;201341983&quot\;:0\,&quot\;335559739&quot\;:160\,&quot\;335559740&quot\;:259}" style="margin: 0px\; padding: 0px\; user-select: text\; -webkit-user-drag: none\; -webkit-tap-highlight-color: transparent\; line-height: 19.425px\;">&nbsp\;</span></span></span></p>\n</div>\n
LOCATION:Meet at Yankee Grill (1 S Grady Way Renton WA 98057) at 8:50a in the main parking lot We will then depart and carpool to the cleanup location of the I405/167 clover leaf
UID:e.16.8295
SEQUENCE:3
DTSTAMP:20260420T133013Z
URL:https://chamber.gorenton.com/events/details/renton-lions-club-highway-clean-up-august-2021-8295
END:VEVENT

END:VCALENDAR
