BEGIN:VCALENDAR
VERSION:2.0
PRODID:-//ChamberMaster//Event Calendar 2.0//EN
METHOD:PUBLISH
X-PUBLISHED-TTL:P3D
REFRESH-INTERVAL:P3D
CALSCALE:GREGORIAN
BEGIN:VEVENT
DTSTART:20210426T160000Z
DTEND:20210426T220000Z
X-MICROSOFT-CDO-ALLDAYEVENT:FALSE
SUMMARY:Renton Prep Campus Blood Drive - All Invited!
DESCRIPTION:Renton Prep invites you to show some love and donate blood through Cascade Regional Blood Services while they are at our campus location on Monday\, April 26th from 9-3PM! \n\nBook your appointment today by calling 1-877-24-BLOOD or visit WWW.CRBS.NET (See attached flyers for further information)\n\nDID YOU KNOW?\n\n\n	More than15 million pints of are transfused in the US each year\n	1 in 7 entering the hospital need blood \n	Every 2 seconds someone in the US needs blood  \n	1 teaspoon can save a baby's life\n	The average adult body contains about 10-12 pints of blood\n	FEWER THAN 1 in 10 eligible donors donates blood annually\n\n\nInvite your family and friends to join us and save a life - we look forward to seeing you there!\n\n?200 Mill Ave S\, Renton\, WA 98057 (old city hall building next to the public library)
X-ALT-DESC;FMTTYPE=text/html:<p><em><span style="color:black\; font-family:roboto\; font-size:10.5pt">Renton Prep invites you to show some love and donate blood through Cascade Regional Blood Services while they are at our campus location on&nbsp\;</span></em><em><strong><span style="color:black\; font-family:roboto\; font-size:10.5pt">Monday\, April 26th from 9-3PM!</span></strong></em><em><span style="color:black\; font-family:roboto\; font-size:10.5pt">&nbsp\;</span></em></p>\n\n<p><strong><em><span style="color:rgb(65\, 65\, 65)\; font-family:arial\,sans-serif\; font-size:10.5pt">Book your appointment today by calling 1-877-24-BLOOD or visit&nbsp\;</span></em></strong><strong><em><span style="color:black\; font-family:roboto\; font-size:10.5pt"><a href="https://www.crbs.net/"><span style="color:rgb(33\, 150\, 243)\; font-family:arial\,sans-serif">WWW.CRBS.NET</span></a>&nbsp\;</span></em></strong><em><span style="color:black\; font-family:roboto\; font-size:10.5pt">(See attached flyers for further information)</span></em></p>\n\n<p><strong><em><span style="color:black\; font-family:roboto\; font-size:10.5pt">DID YOU KNOW?</span></em></strong></p>\n\n<ul>\n	<li><em><span style="color:black\; font-family:roboto\; font-size:10.5pt">More than15 million pints of are transfused in the US each year</span></em></li>\n	<li><em><span style="color:black\; font-family:roboto\; font-size:10.5pt">1 in 7&nbsp\;</span></em><em><span style="color:rgb(65\, 65\, 65)\; font-family:arial\,sans-serif\; font-size:10.5pt">entering the hospital need blood</span></em><em><span style="color:black\; font-family:roboto\; font-size:10.5pt">&nbsp\;</span></em></li>\n	<li><em><span style="color:black\; font-family:roboto\; font-size:10.5pt">Every 2&nbsp\;</span></em><em><span style="color:rgb(65\, 65\, 65)\; font-family:arial\,sans-serif\; font-size:10.5pt">seconds someone in the US needs blood</span></em><em><span style="color:black\; font-family:roboto\; font-size:10.5pt">&nbsp\;&nbsp\;</span></em></li>\n	<li><em><span style="color:black\; font-family:roboto\; font-size:10.5pt">1 teaspoon can save a baby&rsquo\;s life</span></em></li>\n	<li><em><span style="color:black\; font-family:roboto\; font-size:10.5pt">The average adult body contains about 10-12 pints of blood</span></em></li>\n	<li><em><span style="color:rgb(65\, 65\, 65)\; font-family:arial\,sans-serif\; font-size:10.5pt">FEWER THAN</span></em><em><span style="color:black\; font-family:roboto\; font-size:10.5pt">&nbsp\;1 in 10 eligible donors donates blood annually</span></em></li>\n</ul>\n\n<p><em><span style="color:black\; font-family:roboto\; font-size:10.5pt">Invite your family and friends to join us and save a life - we look forward to seeing you there!<br />\n?200 Mill Ave S\, Renton\, WA 98057 (old city hall building next to the public library)</span></em></p>\n
LOCATION:Renton Prep Christian School ?200 Mill Ave S\, Renton\, WA 98057 ?(Old city hall building next to the public library\, located in the parking lot)
UID:e.16.8162
SEQUENCE:3
DTSTAMP:20260420T200458Z
URL:https://chamber.gorenton.com/events/details/renton-prep-campus-blood-drive-all-invited-8162
END:VEVENT

END:VCALENDAR
