BEGIN:VCALENDAR
VERSION:2.0
PRODID:-//ChamberMaster//Event Calendar 2.0//EN
METHOD:PUBLISH
X-PUBLISHED-TTL:P3D
REFRESH-INTERVAL:P3D
CALSCALE:GREGORIAN
BEGIN:VEVENT
DTSTART:20220310T000000Z
DTEND:20220310T020000Z
X-MICROSOFT-CDO-ALLDAYEVENT:FALSE
SUMMARY:Renton Rotary Happy Hour Social
DESCRIPTION:Join the Renton Rotarian for some in-person fellowship & fun!\n\n\n\nRotary will be paying for appetizers and drinks will be no-host. \n\nPlease RSVP Online by March 4th: https://bit.ly/rotaryhappyhour
X-ALT-DESC;FMTTYPE=text/html:<h2 style="font-style:italic\;">Join the Renton Rotarian for some in-person fellowship &amp\; fun!<br />\n<br />\nRotary will be paying for appetizers and drinks will be no-host.&nbsp\;</h2>\n\n<h2 style="font-style:italic\;">Please RSVP Online by March 4th:&nbsp\;<span style="font-size:18px"><span style="font-family:avenir next lt pro\,sans-serif"><a href="https://nam04.safelinks.protection.outlook.com/?url=https%3A%2F%2Fbit.ly%2Frotaryhappyhour&amp\;data=04%7C01%7Crosie%40rosierourke.com%7C6c2d1a46aed6484296ea08d9ec00bbbc%7C930fe649d6b44f81b6cf4ac6eb9f05dc%7C0%7C0%7C637800310869222315%7CUnknown%7CTWFpbGZsb3d8eyJWIjoiMC4wLjAwMDAiLCJQIjoiV2luMzIiLCJBTiI6Ik1haWwiLCJXVCI6Mn0%3D%7C3000&amp\;sdata=HK%2BJQbOtsZ%2BdEekoYRRo4T8gTxFz7zKC7bmx1bceGLs%3D&amp\;reserved=0">https://bit.ly/rotaryhappyhour</a></span></span></h2>\n
LOCATION:Vino at the Landing 800 N 10th Pl\, Renton\, WA 98057
UID:e.16.11417
SEQUENCE:3
DTSTAMP:20260420T043017Z
URL:https://chamber.gorenton.com/events/details/renton-rotary-happy-hour-social-11417
END:VEVENT

END:VCALENDAR
