BEGIN:VCALENDAR
VERSION:2.0
PRODID:-//ChamberMaster//Event Calendar 2.0//EN
METHOD:PUBLISH
X-PUBLISHED-TTL:P3D
REFRESH-INTERVAL:P3D
CALSCALE:GREGORIAN
BEGIN:VEVENT
DTSTART:20220429T233000Z
DTEND:20220430T050000Z
X-MICROSOFT-CDO-ALLDAYEVENT:FALSE
SUMMARY:Renton VFW Post 1263 Auxiliary Spaghetti Dinner Dance and Fundraiser
DESCRIPTION:Friday\, April 29\, (that's a week from this Friday) make sure you have your calendars marked for an all you can eat spaghetti dinner/dance fundraiser beginning at 4:30-6:30pm for the dinner. Dancing will be from 7-10pm with Patty and the Travelin' Four playing for your listening or dancing pleasure. This will take place in the hall. Mariner tickets (4)\, silent auction items\, and baskets are some of the items to check out.  Bring your family and friends for a fun evening of conversation and I'm sure a little laughter!
X-ALT-DESC;FMTTYPE=text/html:<p>Friday\, April 29\, (that&#39\;s a week from this Friday) make sure you have your calendars marked for an all you can eat spaghetti dinner/dance fundraiser beginning at 4:30-6:30pm for the dinner. Dancing will be from 7-10pm with Patty and the Travelin&#39\; Four playing for your listening or dancing pleasure. This will take place in the hall. Mariner tickets (4)\, silent auction items\, and baskets are some of the items to check out.&nbsp\; Bring your family and friends for a fun evening of conversation and I&#39\;m sure a little laughter!</p>\n
LOCATION:416 Burnett Avenue South\, Renton\, Washington\, 98057
UID:e.16.11524
SEQUENCE:3
DTSTAMP:20260420T014337Z
URL:https://chamber.gorenton.com/events/details/renton-vfw-post-1263-auxiliary-spaghetti-dinner-dance-and-fundraiser-11524
END:VEVENT

END:VCALENDAR
