BEGIN:VCALENDAR
VERSION:2.0
PRODID:-//ChamberMaster//Event Calendar 2.0//EN
METHOD:PUBLISH
X-PUBLISHED-TTL:P3D
REFRESH-INTERVAL:P3D
CALSCALE:GREGORIAN
BEGIN:VEVENT
DTSTART:20220525T230000Z
DTEND:20220526T010000Z
X-MICROSOFT-CDO-ALLDAYEVENT:FALSE
SUMMARY:Renton VFW Post 1263 FREE Weekly Dinner Wednesday
DESCRIPTION:Weekly Wednesday dinner. This week we're serving: Picadillo (ground beef with potatoes)\, along with Mexican rice and refried beans\, served with tortillas\, and pineapple cake for dessert. Everyone is welcome\, please come on down support your local POST 1263\, donations are appreciated but not required
X-ALT-DESC;FMTTYPE=text/html:<p>Weekly Wednesday dinner. This week we&rsquo\;re serving: Picadillo (ground beef with potatoes)\, along with Mexican rice and refried beans\, served with tortillas\, and pineapple cake for dessert. Everyone is welcome\, please come on down support your local POST 1263\, donations are appreciated but not required</p>\n
LOCATION:VFW Post 1263: 416 Burnett Ave S\, Renton\, WA 98057
UID:e.16.11547
SEQUENCE:3
DTSTAMP:20260420T003303Z
URL:https://chamber.gorenton.com/events/details/renton-vfw-post-1263-free-weekly-dinner-wednesday-05-25-2022-11547
END:VEVENT

END:VCALENDAR
