BEGIN:VCALENDAR
VERSION:2.0
PRODID:-//ChamberMaster//Event Calendar 2.0//EN
METHOD:PUBLISH
X-PUBLISHED-TTL:P3D
REFRESH-INTERVAL:P3D
CALSCALE:GREGORIAN
BEGIN:VEVENT
DTSTART:20221029T230000Z
DTEND:20221030T050000Z
X-MICROSOFT-CDO-ALLDAYEVENT:FALSE
SUMMARY:Renton VFW Post 1263 Happy Halloween Cooties Fundraiser and Auction - Everyone is Welcome to Attend
DESCRIPTION:The Cooties are an auxiliary of the VFW and visit hospitals where they spread their love and caring to those in need. On Saturday October 29th\, 2022 starting at 4pm PST\, the Cooties will be hosting a fundraiser at the Renton VFW Post 1263. $20 a ticket for entrance\, includes dinner starting at 5pm. Dinner: Ribs or Shrimp Scampi\, Roasted Honey Glazed Carrots\, Rosemary Roasted Potatoes and Green Salad. Oh and did we mention we have a fully stocked bar with top shelf beverages. Raffles\, auction drawings\, and fun throughout the night with special guest DJ Wayne playing any and all requests throughout the day and night. We're located 300 feet across the street from the Renton Chamber of Commerce next door to the Red House restaurant.
X-ALT-DESC;FMTTYPE=text/html:<p>The Cooties are an auxiliary of the VFW and visit hospitals where they spread their love and caring to those in need. On Saturday October 29th\, 2022 starting at 4pm PST\, the Cooties will be hosting a fundraiser at the Renton VFW Post 1263. $20 a ticket for entrance\, includes dinner starting at 5pm. Dinner: Ribs or Shrimp Scampi\, Roasted Honey Glazed Carrots\, Rosemary Roasted Potatoes and Green Salad. Oh and did we mention we have a fully stocked bar with top shelf beverages. Raffles\, auction drawings\, and fun throughout the night with special guest DJ Wayne playing any and all requests throughout the day and night. We&#39\;re located 300 feet across the street from the Renton Chamber of Commerce next door to the Red House restaurant.&nbsp\;</p>\n
LOCATION:416 Burnett Ave S\, Renton\, WA 98057 select this link for easy access: https://goo.gl/maps/vJxyrAUxvuwJG7TJ7
UID:e.16.13636
SEQUENCE:3
DTSTAMP:20260419T175111Z
URL:https://chamber.gorenton.com/events/details/renton-vfw-post-1263-happy-halloween-cooties-fundraiser-and-auction-everyone-is-welcome-to-attend-13636
END:VEVENT

END:VCALENDAR
