BEGIN:VCALENDAR
VERSION:2.0
PRODID:-//ChamberMaster//Event Calendar 2.0//EN
METHOD:PUBLISH
X-PUBLISHED-TTL:P3D
REFRESH-INTERVAL:P3D
CALSCALE:GREGORIAN
BEGIN:VEVENT
DTSTART:20220530T160000Z
DTEND:20220530T220000Z
X-MICROSOFT-CDO-ALLDAYEVENT:FALSE
SUMMARY:Renton VFW Post 1263 Memorial Day 2022 Event Celebration and Honors
DESCRIPTION:Please join us (your local VFW POST 1263\, Renton WA) and celebrate all those who have served in the military both past and currently present. This event is open to everyone\, we encourage you to bring the family and show your support. Multiple details including time and locations below...\n\nMonday\, May 30\, Memorial Day celebration\, lots of activity during the day. (and usually potluck at the Post)\n\n0900 - Renton Senior Center at the American Legion memorial to those lost at sea.\n\n0930-0945 - American Legion conducts gravesite service at grave of Fred Hancock\, Post is named after him. Then to the grave of Frank R. Vaise\, who our Post is named after.\n\n1100 - Greenwood Memorial Park Cemetery for a veterans program put on by the American Legion and VFW Post 1263.\n\n1300 (1:00pm) - City of Renton Memorial Day program at the Veteran's Memorial site.\n\n1500 (3:00pm) - a Memorial Day program at Washington Memorial Park Cemetery\, one block north of SeaTac Airport\, for a POW/MIA Living Memorial & Bracelet Repository in the middle of the cemetery.\nhttps://www.facebook.com/events/552114519896162
X-ALT-DESC;FMTTYPE=text/html:<p>Please join us (your local VFW POST 1263\, Renton WA) and celebrate all those who have served in the military both past and currently present. This event is open to everyone\, we encourage you to bring the family and show your support. Multiple details including time and locations below...</p>\n\n<p>Monday\, May 30\, Memorial Day celebration\, lots of activity during the day. (and usually potluck at the Post)</p>\n\n<p>0900 - Renton Senior Center at the American Legion memorial to those lost at sea.</p>\n\n<p>0930-0945 - American Legion conducts gravesite service at grave of Fred Hancock\, Post is named after him. Then to the grave of Frank R. Vaise\, who our Post is named after.</p>\n\n<p>1100 - Greenwood Memorial Park Cemetery for a veterans program put on by the American Legion and VFW Post 1263.</p>\n\n<p>1300 (1:00pm) - City of Renton Memorial Day program at the Veteran&#39\;s Memorial site.</p>\n\n<p>1500 (3:00pm) - a Memorial Day program at Washington Memorial Park Cemetery\, one block north of SeaTac Airport\, for a POW/MIA Living Memorial &amp\; Bracelet Repository in the middle of the cemetery.</p>\nhttps://www.facebook.com/events/552114519896162
LOCATION:416 Burnett Ave S\, Renton\, WA 98057 select this link for easy access: https://goo.gl/maps/vJxyrAUxvuwJG7TJ7
UID:e.16.11543
SEQUENCE:3
DTSTAMP:20260420T002842Z
URL:https://chamber.gorenton.com/events/details/renton-vfw-post-1263-memorial-day-2022-event-celebration-and-honors-11543
END:VEVENT

END:VCALENDAR
