BEGIN:VCALENDAR
VERSION:2.0
PRODID:-//ChamberMaster//Event Calendar 2.0//EN
METHOD:PUBLISH
X-PUBLISHED-TTL:P3D
REFRESH-INTERVAL:P3D
CALSCALE:GREGORIAN
BEGIN:VEVENT
DTSTART;VALUE=DATE:20221026
DTEND;VALUE=DATE:20221120
TRANSP:TRANSPARENT
X-MICROSOFT-CDO-ALLDAYEVENT:TRUE
SUMMARY:Renton VFW Post 1263 Toy Drive Barrel Located at Renton Chamber of Commerce
DESCRIPTION:Renton VFW Post 1263 and Auxiliary are hosting a collection barrel at the Renton Chamber of Commerce. We're collecting Christmas toys for Joint Base Lewis McChord (JBLM) military families. Please bring your NEW unwrapped toys for kids aged 0-19 years old. Please leave or place a sticker price on the gift\, so we can give a value to the toys to JBLM for tax purposes. Any gift would be appreciated. We also have donations barrels located at the VFW post\, choose either location and let's help the children!!
X-ALT-DESC;FMTTYPE=text/html:Renton VFW Post 1263 and Auxiliary are hosting a collection barrel at the Renton Chamber of Commerce. We&#39\;re collecting Christmas toys for Joint Base Lewis McChord (JBLM) military families. Please bring your NEW unwrapped toys for kids aged 0-19 years old. Please leave or place a sticker price on the gift\, so we can give a value to the toys to JBLM for tax purposes. Any gift would be appreciated. We also have donations barrels located at the VFW post\, choose either location and let&#39\;s help the children!!
LOCATION:Renton Chamber of Commerce
UID:e.16.13635
SEQUENCE:3
DTSTAMP:20260419T175137Z
URL:https://chamber.gorenton.com/events/details/renton-vfw-post-1263-toy-drive-barrel-located-at-renton-chamber-of-commerce-13635
END:VEVENT

END:VCALENDAR
