BEGIN:VCALENDAR
VERSION:2.0
PRODID:-//ChamberMaster//Event Calendar 2.0//EN
METHOD:PUBLISH
X-PUBLISHED-TTL:P3D
REFRESH-INTERVAL:P3D
CALSCALE:GREGORIAN
BEGIN:VEVENT
DTSTART:20220604T003000Z
DTEND:20220604T040000Z
X-MICROSOFT-CDO-ALLDAYEVENT:FALSE
SUMMARY:Renton Wine Walk
DESCRIPTION:The Renton Wine Walk is the perfect event for wine connoisseurs or those just starting to discover the world of wine. Sample from over 20 different wines as you stroll through the downtown businesses and chat with the winemakers as they pour their select choices.\n\nTickets are $30 in advance or $40 at the event [if not sold out]. Price of admission includes 10 one-ounce drink tokens\, a map of the tasting locations\, a souvenir wine glass\, tasting tokens and an event wristband. These items can all be picked up when you check in on event night at Rain City Market (located in the Penney Lofts building at 700 S 3rd St).\n\nYou must be 21 to purchase wine tasting tickets. Everyone will be required to show identification for tickets purchased online or at the door.\n\nParticipating downtown businesses and wineries:\n\n1. Drum Roll Wines-Urban Sprouts\n\n2. Cedar River Cellars-Boon Boona\n\n3. Naches Heights Vineyard-LA Frames\n\n4. Wautoma Springs-Cugini Florist\n\n5. Puget Sound Cider-Antiques 4U\n\n6. Three of Cups-Sparkle Gifts & Whatnots\n\n7. T2 Cellars-Blue Door Skin\n\n8. Contrivance-4 sisters\n\n9. Salida-Wyldwood Creative\n\n10. Michael Florentino Cellars-The Rose Gift House & Coffee\n\n11. Long Cellars-Handsome Devil Tattoo\n\n12. Market Vineyards-The Pencil Test
X-ALT-DESC;FMTTYPE=text/html:<div>The Renton Wine Walk is the perfect event for wine connoisseurs or those just starting to discover the world of wine. Sample from over 20 different wines as you stroll through the downtown businesses and chat with the winemakers as they pour their select choices.<br />\nTickets are $30 in advance or $40 at the event [if not sold out]. Price of admission includes 10 one-ounce drink tokens\, a map of the tasting locations\, a souvenir wine glass\, tasting tokens and an event wristband. These items can all be picked up when you check in on event night at Rain City Market (located in the Penney Lofts building at 700 S 3rd St).</div>\n\n<div>You must be 21 to purchase wine tasting tickets. Everyone will be required to show identification for tickets purchased online or at the door.</div>\n\n<div>Participating downtown businesses and wineries:</div>\n\n<div>1. Drum Roll Wines-Urban Sprouts<br />\n2. Cedar River Cellars-Boon Boona<br />\n3. Naches Heights Vineyard-LA Frames<br />\n4. Wautoma Springs-Cugini Florist<br />\n5. Puget Sound Cider-Antiques 4U<br />\n6. Three of Cups-Sparkle Gifts &amp\; Whatnots<br />\n7. T2 Cellars-Blue Door Skin<br />\n8. Contrivance-4 sisters<br />\n9. Salida-Wyldwood Creative<br />\n10. Michael Florentino Cellars-The Rose Gift House &amp\; Coffee<br />\n11. Long Cellars-Handsome Devil Tattoo<br />\n12. Market Vineyards-The Pencil Test&nbsp\;</div>\n
LOCATION:Downtown Renton Check In location: Rain City Market 700 S 3rd St.
UID:e.16.11766
SEQUENCE:3
DTSTAMP:20260419T231126Z
URL:https://chamber.gorenton.com/events/details/renton-wine-walk-06-03-2022-11766
END:VEVENT

END:VCALENDAR
