BEGIN:VCALENDAR
VERSION:2.0
PRODID:-//ChamberMaster//Event Calendar 2.0//EN
METHOD:PUBLISH
X-PUBLISHED-TTL:P3D
REFRESH-INTERVAL:P3D
CALSCALE:GREGORIAN
BEGIN:VEVENT
DTSTART:20200306T000000Z
DTEND:20200306T020000Z
X-MICROSOFT-CDO-ALLDAYEVENT:FALSE
SUMMARY:Resilience: The Biology of Stress & The Science of Hope
DESCRIPTION:Resilience Trailer - KPJR Films from KPJR FILMS LLC on Vimeo.\nThis powerful film explores the impact of toxic stress and Adverse Childhood Experiences (ACEs) on individuals\, including children\, and how we can build communities of resilience so our children can thrive. This film is for interested community members\, families\, school staff\, health providers\, service providers\, and all who want to help build resilience in our children and our community. There will be a panel discussion to follow.
X-ALT-DESC;FMTTYPE=text/html:<iframe allow="autoplay\; fullscreen" allowfullscreen="" frameborder="0" height="360" src="https://player.vimeo.com/video/137282528?color=ffffff&amp\;byline=0&amp\;portrait=0" width="640"></iframe>\n<p><a href="https://vimeo.com/137282528">Resilience Trailer - KPJR Films</a> from <a href="https://vimeo.com/user20949959">KPJR FILMS LLC</a> on <a href="https://vimeo.com">Vimeo</a>.</p>\n<span font-size:="" style="color: rgb(28\, 42\, 54)\; font-family: " trebuchet="" white-space:="">This powerful film explores the impact of toxic stress and Adverse Childhood Experiences (ACEs) on individuals\, including children\, and how we can build communities of resilience so our children can thrive.&nbsp\;This film is for interested community members\, families\, school staff\, health providers\, service providers\, and all who want to help build resilience in&nbsp\;our children and our community. There will be a panel discussion to follow.</span>
LOCATION:Ikea Performing Arts Center 400 S. 2nd St. Renton\, WA 98057
UID:e.16.6749
SEQUENCE:3
DTSTAMP:20260423T131703Z
URL:https://chamber.gorenton.com/events/details/resilience-the-biology-of-stress-the-science-of-hope-6749
END:VEVENT

END:VCALENDAR
