BEGIN:VCALENDAR
VERSION:2.0
PRODID:-//ChamberMaster//Event Calendar 2.0//EN
METHOD:PUBLISH
X-PUBLISHED-TTL:P3D
REFRESH-INTERVAL:P3D
CALSCALE:GREGORIAN
BEGIN:VEVENT
DTSTART:20220417T163000Z
DTEND:20220417T190000Z
X-MICROSOFT-CDO-ALLDAYEVENT:FALSE
SUMMARY:Resurrection Sunday - Easter Service
DESCRIPTION:Resurrection Sunday Service - \n\nCelebrating our risen Savior!\n\n\n\nCome early for a Light brunch at 9:30 am --\n\nService at 10 am --\n\nEgg hunt for the kids directly following the service
X-ALT-DESC;FMTTYPE=text/html:<h1><strong><span style="color:rgb(68\, 68\, 68)\; font-family:arial\,helvetica\,sans-serif\; font-size:14px">Resurrection Sunday Service -&nbsp\;</span></strong></h1>\n\n<p><strong><em><span style="color:rgb(68\, 68\, 68)\; font-family:arial\,helvetica\,sans-serif\; font-size:14px">Celebrating our risen Savior!</span></em></strong><br />\n<br />\n<span style="color:rgb(68\, 68\, 68)\; font-family:arial\,helvetica\,sans-serif\; font-size:14px">Come early for a Light brunch at 9:30 am --</span><br />\n<span style="color:rgb(68\, 68\, 68)\; font-family:arial\,helvetica\,sans-serif\; font-size:14px">Service at 10 am --</span><br />\n<span style="color:rgb(68\, 68\, 68)\; font-family:arial\,helvetica\,sans-serif\; font-size:14px">Egg hunt for the kids directly following the service</span></p>\n
LOCATION:Celebration Foursquare Church Renton Highlands 11840 148th Ave SE Renton\, WA 98059
UID:e.16.11502
SEQUENCE:3
DTSTAMP:20260420T014052Z
URL:https://chamber.gorenton.com/events/details/resurrection-sunday-easter-service-11502
END:VEVENT

END:VCALENDAR
