BEGIN:VCALENDAR
VERSION:2.0
PRODID:-//ChamberMaster//Event Calendar 2.0//EN
METHOD:PUBLISH
X-PUBLISHED-TTL:P3D
REFRESH-INTERVAL:P3D
CALSCALE:GREGORIAN
BEGIN:VEVENT
DTSTART:20180428T180000Z
DTEND:20180428T190000Z
X-MICROSOFT-CDO-ALLDAYEVENT:FALSE
SUMMARY:Revealing Women's History Through Fashion
DESCRIPTION:Please join Michelle Marshman\, History Instructor at Green River College for a visual tour of women's history in the 20th century as illustrated by changing women's fashions. We'll hear how political and social change\, times of economic boom and bust\, and changing ideas about women's roles\, inform the clothing women wear.
X-ALT-DESC;FMTTYPE=text/html:Please join Michelle Marshman\, History Instructor at Green River College for a visual tour of women&#39\;s history in the 20th century as illustrated by changing women&#39\;s fashions. We&#39\;ll hear how political and social change\, times of economic boom and bust\, and changing ideas about women&#39\;s roles\, inform the clothing women wear.
LOCATION:Renton History Museum 235 Mill Ave South Renton\, WA 98057
UID:e.16.5752
SEQUENCE:3
DTSTAMP:20260424T231223Z
URL:https://chamber.gorenton.com/events/details/revealing-women-s-history-through-fashion-5752
END:VEVENT

END:VCALENDAR
