BEGIN:VCALENDAR
VERSION:2.0
PRODID:-//ChamberMaster//Event Calendar 2.0//EN
METHOD:PUBLISH
X-PUBLISHED-TTL:P3D
REFRESH-INTERVAL:P3D
CALSCALE:GREGORIAN
BEGIN:VEVENT
DTSTART:20220404T180000Z
DTEND:20220404T183000Z
X-MICROSOFT-CDO-ALLDAYEVENT:FALSE
SUMMARY:Ribbon Cutting Areesa Bourdon Insurance & Financial Services\, INC.
DESCRIPTION:
X-ALT-DESC;FMTTYPE=text/html:
LOCATION:
UID:e.16.11465
SEQUENCE:3
DTSTAMP:20260420T030351Z
URL:https://chamber.gorenton.com/events/details/ribbon-cutting-areesa-bourdon-insurance-financial-services-inc-11465
END:VEVENT

END:VCALENDAR
