BEGIN:VCALENDAR
VERSION:2.0
PRODID:-//ChamberMaster//Event Calendar 2.0//EN
METHOD:PUBLISH
X-PUBLISHED-TTL:P3D
REFRESH-INTERVAL:P3D
CALSCALE:GREGORIAN
BEGIN:VEVENT
DTSTART:20200110T000000Z
DTEND:20200110T010000Z
X-MICROSOFT-CDO-ALLDAYEVENT:FALSE
SUMMARY:Ribbon Cutting: Bickerson's Brewhouse
DESCRIPTION:Come join business and community leaders as we welcome Bickerson's Brewhouse into the Chamber family and kick off their new business in Renton in celebration!\n\n(Registration not NECESSARY but it's nice to have an idea in advance on headcount)
X-ALT-DESC;FMTTYPE=text/html:Come join business and community leaders as we welcome Bickerson&#39\;s Brewhouse into the Chamber family and kick off their new business in Renton in celebration!<br />\n(Registration not NECESSARY but it&#39\;s nice to have an idea in advance on headcount)
LOCATION:Bickerson's Brewhouse 4710 NE 4th St #C105 (Renton Highlands - in QFC Parking Lot)
UID:e.16.6717
SEQUENCE:3
DTSTAMP:20260423T162155Z
URL:https://chamber.gorenton.com/events/details/ribbon-cutting-bickerson-s-brewhouse-6717
END:VEVENT

END:VCALENDAR
