BEGIN:VCALENDAR
VERSION:2.0
PRODID:-//ChamberMaster//Event Calendar 2.0//EN
METHOD:PUBLISH
X-PUBLISHED-TTL:P3D
REFRESH-INTERVAL:P3D
CALSCALE:GREGORIAN
BEGIN:VEVENT
DTSTART:20220407T003000Z
DTEND:20220407T020000Z
X-MICROSOFT-CDO-ALLDAYEVENT:FALSE
SUMMARY:Ribbon Cutting Comfort Kids Dental
DESCRIPTION:COME CELEBRATE COMFORT DENTAL KIDS OPENING IN RENTON! MEET DR. LUKE NGUYEN AND HIS TEAM.   STOP BY TO LEARN MORE ABOUT THEIR SERVICES\, TOUR THEIR OCEAN AND ENTER INTO SOME GREAT GIVEAWAYS!\n\nhttps://comfortdental-wa.com/fairwood-kids/
X-ALT-DESC;FMTTYPE=text/html:<p style="text-align: center"><span style="font-size:24px\;"><strong><span style="color:#008080\;"><span data-font-id="undefined" style="font-family: Bodoni\;">COME CELEBRATE COMFORT DENTAL KIDS OPENING IN RENTON! MEET DR. LUKE NGUYEN AND HIS TEAM.&nbsp\; &nbsp\;STOP BY TO LEARN MORE ABOUT THEIR SERVICES\, TOUR THEIR OCEAN AND ENTER INTO SOME GREAT GIVEAWAYS!</span></span></strong></span></p>\n\n<p style="text-align: center"><span style="font-size:24px\;"><strong><span style="color:#008080\;"><span data-font-id="undefined" style="font-family: Bodoni\;">https://comfortdental-wa.com/fairwood-kids/</span></span></strong></span></p>\n\n<p style="text-align: center">&nbsp\;</p>\n
LOCATION:Comfort Dental Kids 14246 SE 176th St\, Renton\, Washington 98058
UID:e.16.11427
SEQUENCE:3
DTSTAMP:20260420T030319Z
URL:https://chamber.gorenton.com/events/details/ribbon-cutting-comfort-kids-dental-11427
END:VEVENT

END:VCALENDAR
