BEGIN:VCALENDAR
VERSION:2.0
PRODID:-//ChamberMaster//Event Calendar 2.0//EN
METHOD:PUBLISH
X-PUBLISHED-TTL:P3D
REFRESH-INTERVAL:P3D
CALSCALE:GREGORIAN
BEGIN:VEVENT
DTSTART:20190912T230000Z
DTEND:20190913T010000Z
X-MICROSOFT-CDO-ALLDAYEVENT:FALSE
SUMMARY:Ribbon Cutting- Dan MD TMS Primary Care
DESCRIPTION:You are invited to our newest member's ribbon cutting ceremony.\n\nDAN MED TMS\n\nThey provide Transcranial Magnetic Stimulation (TMS) treatment for patients suffering from depression and anxiety disorders\; work collaboratively with you and your entity. \n\nThey find TMS extremely helpful for patients with comorbid medical issues like diabetes\, HTN\, chronic pain\, etc.\, because\, unlike antidepressants\, TMS does not cause weight gain or have any systemic side effects. In fact\, they have had patients who were able to get off their antidepressants and as a result lose weight which in turn helped lower their HTN\, Hemoglobin A1Cs and improve their overall health.\n\nMOST IMPORTANTLY\, TMS IS NOW SECOND-LINE TREATMENT FOR DEPRESSION AS PER\n\nMEDICARE & the American Psychiatric Association 2010 guidelines. IT IS NOT JUST FOR\n\nTREATMENT RESISTANT DEPRESSION.
X-ALT-DESC;FMTTYPE=text/html:You are invited to our newest member&#39\;s ribbon cutting ceremony.<br />\n<a href="https://danmedtms.com/dan-med-tms-kent-office/">DAN MED TMS</a><br />\nThey provide&nbsp\;Transcranial Magnetic Stimulation (TMS) treatment for patients suffering from depression and anxiety disorders\; work collaboratively with you and your entity.&nbsp\;<br />\nThey find TMS extremely helpful for patients with comorbid medical issues like diabetes\, HTN\, chronic pain\, etc.\, because\, unlike antidepressants\, TMS does not cause weight gain or have any systemic side effects. In fact\, they have had patients who were able to get off their antidepressants and as a result lose weight which in turn helped lower their HTN\, Hemoglobin A1Cs and improve their overall health.<br />\nMOST IMPORTANTLY\, TMS IS NOW SECOND-LINE TREATMENT FOR DEPRESSION AS PER<br />\nMEDICARE &amp\; the American Psychiatric Association 2010 guidelines. IT IS NOT JUST FOR<br />\nTREATMENT RESISTANT DEPRESSION.
LOCATION:350 South 38th Court\, Suite 100 Renton\, WA 98055
UID:e.16.6628
SEQUENCE:3
DTSTAMP:20260423T215419Z
URL:https://chamber.gorenton.com/events/details/ribbon-cutting-dan-md-tms-primary-care-6628
END:VEVENT

END:VCALENDAR
