BEGIN:VCALENDAR
VERSION:2.0
PRODID:-//ChamberMaster//Event Calendar 2.0//EN
METHOD:PUBLISH
X-PUBLISHED-TTL:P3D
REFRESH-INTERVAL:P3D
CALSCALE:GREGORIAN
BEGIN:VEVENT
DTSTART:20180419T233000Z
DTEND:20180420T003000Z
X-MICROSOFT-CDO-ALLDAYEVENT:FALSE
SUMMARY:Ribbon Cutting Event: Solstice Senior Living at Renton
DESCRIPTION:Come celebrate our Grand Re-Opening (formerly Evergreen Place) on April 19th.\n\nRibbon cutting will happen at 5:00pm. Join us for desserts\, raffle\, and prizes!
X-ALT-DESC;FMTTYPE=text/html:Come celebrate our Grand Re-Opening (formerly Evergreen Place) on April 19th.<br />\nRibbon cutting will happen at 5:00pm. Join us for desserts\, raffle\, and prizes!
LOCATION:Solstice Senior Living 1414 Monroe Ave. NE Renton\, WA 98056
UID:e.16.5745
SEQUENCE:3
DTSTAMP:20260424T231327Z
URL:https://chamber.gorenton.com/events/details/ribbon-cutting-event-solstice-senior-living-at-renton-5745
END:VEVENT

END:VCALENDAR
