BEGIN:VCALENDAR
VERSION:2.0
PRODID:-//ChamberMaster//Event Calendar 2.0//EN
METHOD:PUBLISH
X-PUBLISHED-TTL:P3D
REFRESH-INTERVAL:P3D
CALSCALE:GREGORIAN
BEGIN:VEVENT
DTSTART:20260122T220000Z
DTEND:20260123T000000Z
X-MICROSOFT-CDO-ALLDAYEVENT:FALSE
SUMMARY:RIBBON CUTTING - Bindaas Indian Restaurant Sports Bar & Dukaan
DESCRIPTION:Join us for a Ribbon Cutting & Grand Opening ceremony celebrating Bindaas Indian Restaurant Sports Bar & Dukaan!\n\n\n\nFollow the story of owners Runika and Abhishek through the currated ambiance they've crafted in this new Downtown restaurant. Immersed in family traditions with modern twists\, Bindaas is becoming a fast favorite among locals and visiitors alike. \n\n\n\nThis isn't just about a new spot to eat\, it's about building community. Come celebrate\, enjoy some festivities\, and check out this brand-new Downtown Renton staple!\n\n\n\nThank you for helping us welcomig this vibrant new business into the community and the Chamber Family - we can't wait to see you there!\n\n\n\n  NEW: Thursday\, JAN 22\n\n  Bindaas |  811 S 3rd St\, Renton\n\n  2-4 pm
X-ALT-DESC;FMTTYPE=text/html:Join us for a<strong> Ribbon Cutting&nbsp\;&amp\; Grand Opening</strong> ceremony celebrating <strong><a href="https://evergreengracedental.com/">B</a><a href="https://www.instagram.com/bindaasrestaurantsportsbar/?fbclid=IwY2xjawOuy35leHRuA2FlbQIxMABicmlkETFSbWtWclVJNXpmVUdzTmlzc3J0YwZhcHBfaWQQMjIyMDM5MTc4ODIwMDg5MgABHnPYNClTZyTL4PrBuZhNPgVhRu8Cf77igNWUutsy5yTmiNq2ZD9T_HgWRjbU_aem_sX7jlKH8CsBeGfcTtvPv5A#">indaas</a><a href="http://www.instagram.com/bindaasrestaurantsportsbar/?fbclid=IwY2xjawOuy35leHRuA2FlbQIxMABicmlkETFSbWtWclVJNXpmVUdzTmlzc3J0YwZhcHBfaWQQMjIyMDM5MTc4ODIwMDg5MgABHnPYNClTZyTL4PrBuZhNPgVhRu8Cf77igNWUutsy5yTmiNq2ZD9T_HgWRjbU_aem_sX7jlKH8CsBeGfcTtvPv5A#"> Indian Restaurant Sports Bar &amp\; Dukaan</a></strong><strong>!</strong><br />\n<br />\nFollow the story of owners Runika and Abhishek through the currated ambiance they&#39\;ve crafted in this new Downtown restaurant. Immersed in family traditions with modern twists\, Bindaas is becoming a fast favorite among locals and visiitors alike.&nbsp\;<br />\n<br />\nThis isn&rsquo\;t just about a new spot to eat\, it&rsquo\;s about building community. Come <strong>celebrate\,</strong>&nbsp\;enjoy some <strong>festivities</strong>\, and check out this&nbsp\;<strong>brand-new Downtown Renton staple!</strong><br />\n<br />\nThank you for helping us welcomig this vibrant new business into the community and the Chamber Family - we can&rsquo\;t wait to see you there!<br />\n<br />\n&#128198\;<span style="color:#000080\;"> </span><strong><span style="color:#FF8C00\;">NEW:&nbsp\;</span>Thursday\, JAN 22</strong><br />\n&#128205\; <strong>Bindaas</strong> | &nbsp\;811 S 3rd St\, Renton<br />\n&#9200\; <strong>2-4 pm</strong>
LOCATION:Bindaas | 811 S 3rd St\, Renton
UID:e.16.31570
SEQUENCE:3
DTSTAMP:20260426T024725Z
URL:https://chamber.gorenton.com/events/details/ribbon-cutting-evergreen-grace-dental-31570
END:VEVENT

END:VCALENDAR
