BEGIN:VCALENDAR
VERSION:2.0
PRODID:-//ChamberMaster//Event Calendar 2.0//EN
METHOD:PUBLISH
X-PUBLISHED-TTL:P3D
REFRESH-INTERVAL:P3D
CALSCALE:GREGORIAN
BEGIN:VEVENT
DTSTART:20181017T003000Z
DTEND:20181017T023000Z
X-MICROSOFT-CDO-ALLDAYEVENT:FALSE
SUMMARY:Ribbon Cutting & Grand Opening Renton Kiwanis Clothes Bank
DESCRIPTION:Join the Chamber\, the City and the Community in celebrating the grand opening of the new "home" of the Renton Kiwanis Clothes Bank.
X-ALT-DESC;FMTTYPE=text/html:Join the Chamber\, the City and the Community in celebrating the grand opening of the new &quot\;home&quot\; of the Renton Kiwanis Clothes Bank.
LOCATION:444 Park Avenue North
UID:e.16.5922
SEQUENCE:3
DTSTAMP:20260424T134351Z
URL:https://chamber.gorenton.com/events/details/ribbon-cutting-grand-opening-renton-kiwanis-clothes-bank-5922
END:VEVENT

END:VCALENDAR
