BEGIN:VCALENDAR
VERSION:2.0
PRODID:-//ChamberMaster//Event Calendar 2.0//EN
METHOD:PUBLISH
X-PUBLISHED-TTL:P3D
REFRESH-INTERVAL:P3D
CALSCALE:GREGORIAN
BEGIN:VEVENT
DTSTART:20181010T210000Z
DTEND:20181010T220000Z
X-MICROSOFT-CDO-ALLDAYEVENT:FALSE
SUMMARY:Ribbon Cutting & Grand Opening Turabi Rug Gallery
DESCRIPTION:Join the Renton Chamber of Commerce and City of Renton Officials as they welcome new business Turabi Rug Gallery. This is the 2nd store for Turabi - the 1st still being located in Pioneer Square in downtown Seattle. Drinks\, Turkish Food\, Celebratory Fun!
X-ALT-DESC;FMTTYPE=text/html:Join the Renton Chamber of Commerce and City of Renton Officials as they welcome new business Turabi Rug Gallery. This is the 2nd store for Turabi - the 1st still being located in Pioneer Square in downtown Seattle. Drinks\, Turkish Food\, Celebratory Fun!
LOCATION:216 Wells Ave S
UID:e.16.5921
SEQUENCE:3
DTSTAMP:20260424T134657Z
URL:https://chamber.gorenton.com/events/details/ribbon-cutting-grand-opening-turabi-rug-gallery-5921
END:VEVENT

END:VCALENDAR
