BEGIN:VCALENDAR
VERSION:2.0
PRODID:-//ChamberMaster//Event Calendar 2.0//EN
METHOD:PUBLISH
X-PUBLISHED-TTL:P3D
REFRESH-INTERVAL:P3D
CALSCALE:GREGORIAN
BEGIN:VEVENT
DTSTART:20181129T200000Z
DTEND:20181130T003000Z
X-MICROSOFT-CDO-ALLDAYEVENT:FALSE
SUMMARY:Ribbon Cutting/Open House- SKIS Commercial Painting
DESCRIPTION:SKIS Painting\, an award-winning\, 3rd generation family-run commercial painting company is relocating its headquarters to Renton. Established in 1968 and celebrating its 50th year in business\, SKIS has grown from a small outfit to 135+ employees across two locations and is merging to a new\, single office to have its employees under one roof again. "We have loved being a part the Kent community\," says Jeff Ficks\, owner and co-founder of SKIS. "We are ready for this next era of our business\, and to develop working relationships with the Renton community while we continue to serve our customers and clients from all over the Puget Sound."\n\nSKIS has been a unique part of Seattle's development boom\, lending their coatings expertise to commercial and renovation projects such as the Starbucks Reserve Roastery\, Washington Hall\, the Georgetown Squared office park\, and the Southport office complex\, currently under construction. Their best clients and partners are some of the largest and most well-known companies from all over the Pacific Northwest. SKIS is devoted to contributing to the positive development of communities in Seattle and beyond\, beginning with the investment in their employees' well-being and longevity with the company. Jesse Ficks\, a 3rd generation family member in the business commented\, "We have made it priority to put our employees and their families first and offer an unparalleled product and service. After 50 years\, that hasn't changed one bit."\n\nSKIS is committed to excellence and challenging the common notion of what to expect from commercial painting\, as a career and as a service provider. To learn more about employment opportunities with SKIS\, visit www.skispainting.com/careers.
X-ALT-DESC;FMTTYPE=text/html:<p><a href="https://skispainting.com/">SKIS Painting</a>\, an award-winning\, 3rd generation family-run commercial painting company is relocating its headquarters to Renton. Established in 1968 and celebrating its 50th year in business\, SKIS has grown from a small outfit to 135+ employees across two locations and is merging to a new\, single office to have its employees under one roof again. &ldquo\;We have loved being a part the Kent community\,&rdquo\; says Jeff Ficks\, owner and co-founder of SKIS. &ldquo\;We are ready for this next era of our business\, and to develop working relationships with the Renton community while we continue to serve our customers and clients from all over the Puget Sound.&rdquo\;</p>\n\n<p>SKIS has been a unique part of Seattle&rsquo\;s development boom\, lending their coatings expertise to commercial and renovation projects such as the <a href="https://skispainting.com/project/starbucks-roastery/">Starbucks Reserve Roastery</a>\, <a href="https://skispainting.com/project/washington-hall-seattle/">Washington Hall</a>\, the <a href="https://skispainting.com/project/g2-georgetown-squared-exterior/">Georgetown Squared</a> office park\, and the <a href="https://www.secodev.com/southport-office">Southport</a> office complex\, currently under construction. Their best clients and partners are some of the largest and most well-known companies from all over the Pacific Northwest. SKIS is devoted to contributing to the positive development of communities in Seattle and beyond\, beginning with the investment in their employees&rsquo\; well-being and longevity with the company. Jesse Ficks\, a 3rd generation family member in the business commented\, &ldquo\;We have made it priority to put our employees and their families first and offer an unparalleled product and service. After 50 years\, that hasn&rsquo\;t changed one bit.&rdquo\;</p>\n\n<p>SKIS is committed to excellence and challenging the common notion of what to expect from commercial painting\, as a career and as a service provider. To learn more about employment opportunities with SKIS\, visit <a href="https://skispainting.com/careers/">www.skispainting.com/careers.</a></p>\n
LOCATION:850 SW 7th St. #100 Renton\, WA 98057
UID:e.16.5975
SEQUENCE:3
DTSTAMP:20260424T140213Z
URL:https://chamber.gorenton.com/events/details/ribbon-cutting-open-house-skis-commercial-painting-5975
END:VEVENT

END:VCALENDAR
