BEGIN:VCALENDAR
VERSION:2.0
PRODID:-//ChamberMaster//Event Calendar 2.0//EN
METHOD:PUBLISH
X-PUBLISHED-TTL:P3D
REFRESH-INTERVAL:P3D
CALSCALE:GREGORIAN
BEGIN:VEVENT
DTSTART:20191108T003000Z
DTEND:20191108T033000Z
X-MICROSOFT-CDO-ALLDAYEVENT:FALSE
SUMMARY:Ribbon Cutting: Residence Inn Seattle South/Renton
DESCRIPTION:Residence Inn Seattle South/Renton is celebrating their Grand Opening with a Ribbon Cutting & Celebration!   There will be food\, drinks\, music and fun times.  Come see the new hotel and welcome the Residence Inn to Renton!
X-ALT-DESC;FMTTYPE=text/html:Residence Inn Seattle South/Renton is celebrating their Grand Opening with a Ribbon Cutting &amp\; Celebration! &nbsp\; There will be food\, drinks\, music and fun times.&nbsp\; Come see the new hotel and welcome the Residence Inn to Renton!
LOCATION:1200 Lake Washington Blvd N Renton WA 98057
UID:e.16.6683
SEQUENCE:3
DTSTAMP:20260423T190315Z
URL:https://chamber.gorenton.com/events/details/ribbon-cutting-residence-inn-seattle-south-renton-6683
END:VEVENT

END:VCALENDAR
