BEGIN:VCALENDAR
VERSION:2.0
PRODID:-//ChamberMaster//Event Calendar 2.0//EN
METHOD:PUBLISH
X-PUBLISHED-TTL:P3D
REFRESH-INTERVAL:P3D
CALSCALE:GREGORIAN
BEGIN:VEVENT
DTSTART:20190613T010000Z
DTEND:20190613T030000Z
X-MICROSOFT-CDO-ALLDAYEVENT:FALSE
SUMMARY:Ribbon Cutting Voice of Tonga in Washington
DESCRIPTION:Join us for food\, drink\, music and fun in celebrating the arrival of one of our newest Chamber teammate and Renton radio station.\n\nCome meet the folks\, see where they work and learn more about what they do
X-ALT-DESC;FMTTYPE=text/html:Join us for food\, drink\, music and fun in celebrating the arrival of one of our newest Chamber teammate and Renton radio station.<br />\nCome meet the folks\, see where they work and learn more about what they do
LOCATION:Triton Towers 707 S Grady Way #600 Renton\, WA 98057
UID:e.16.6546
SEQUENCE:3
DTSTAMP:20260424T022114Z
URL:https://chamber.gorenton.com/events/details/ribbon-cutting-voice-of-tonga-in-washington-6546
END:VEVENT

END:VCALENDAR
