BEGIN:VCALENDAR
VERSION:2.0
PRODID:-//ChamberMaster//Event Calendar 2.0//EN
METHOD:PUBLISH
X-PUBLISHED-TTL:P3D
REFRESH-INTERVAL:P3D
CALSCALE:GREGORIAN
BEGIN:VEVENT
DTSTART:20200301T030000Z
DTEND:20200301T043000Z
X-MICROSOFT-CDO-ALLDAYEVENT:FALSE
SUMMARY:River Valley Cheese: Art with Ann Humes
DESCRIPTION:Explore the magic of alcohol inking as you create a masterpiece of your own. Certified art therapist Ann Humes will take you on a journey through techniques that make this art medium work it's magic for you. You'll learn about the properties of alcohol ink and create several textures that will become a stunning one-of-a-kind collage.\n\nTo learn more about Ann Humes\, her journey and her art\, please visit https://www.annhumesart.com/
X-ALT-DESC;FMTTYPE=text/html:Explore the magic of alcohol inking as you create a masterpiece of your own. Certified art therapist Ann Humes will take you on a journey through techniques that make this art medium work it&rsquo\;s magic for you. You&rsquo\;ll learn about the properties of alcohol ink and create several textures that will become a stunning one-of-a-kind collage.<br />\nTo learn more about Ann Humes\, her journey and her art\, please visit <a href="https://www.annhumesart.com/">https://www.annhumesart.com/</a>
LOCATION:River Valley Cheese 826 S. 3rd St. Renton\, WA 98057
UID:e.16.6752
SEQUENCE:3
DTSTAMP:20260423T143535Z
URL:https://chamber.gorenton.com/events/details/river-valley-cheese-art-with-ann-humes-6752
END:VEVENT

END:VCALENDAR
