BEGIN:VCALENDAR
VERSION:2.0
PRODID:-//ChamberMaster//Event Calendar 2.0//EN
METHOD:PUBLISH
X-PUBLISHED-TTL:P3D
REFRESH-INTERVAL:P3D
CALSCALE:GREGORIAN
BEGIN:VEVENT
DTSTART:20200314T213000Z
DTEND:20200314T230000Z
X-MICROSOFT-CDO-ALLDAYEVENT:FALSE
SUMMARY:River Valley Cheese: Wine Tasting and Chocolate Dippin' Party!
DESCRIPTION:Come join the Last Candy Maker\, Monty Simpson\, for a Wine Tasting and Chocolate Dippin' Party! Get your wine on with 3 delicious tastings while Monty regales you with all things candy.  During this 1.5hr class\, you will be guided through an extravaganza of dipping delectable items in chocolate. You will leave with your own hand-made candies and a memory bathed in chocolate and happiness! \n\nAbout Monty Simpson\n\nAfter a 27-year career creating delicious traditional and modern confections as a Candy Maker for Boehm's Candies\, Monty Simpson\, owner operator of The Traveling Chocolate Company\, now shares his passion of all things candy with others. Traveling about and teaching young and old and alike about chocolate and candy making is the best job in the world next to Santa Claus.
X-ALT-DESC;FMTTYPE=text/html:Come join the Last Candy Maker\, Monty Simpson\, for a Wine Tasting and Chocolate Dippin&#39\; Party! Get your wine on with 3 delicious tastings while Monty regales you with all things candy.&nbsp\; During this 1.5hr class\, you will be guided through an extravaganza of dipping delectable items in chocolate. You will leave with your own hand-made candies and a memory bathed in chocolate and happiness!&nbsp\;<br />\nAbout Monty Simpson<br />\nAfter a 27-year career creating delicious traditional and modern confections as a Candy Maker for Boehm&rsquo\;s Candies\, Monty Simpson\, owner operator of The Traveling Chocolate Company\, now shares his passion of all things candy with others. Traveling about and teaching young and old and alike about chocolate and candy making is the best job in the world next to Santa Claus.
LOCATION:River Valley Cheese 826 S. 3rd St. Renton\, WA 98057
UID:e.16.6753
SEQUENCE:3
DTSTAMP:20260423T131229Z
URL:https://chamber.gorenton.com/events/details/river-valley-cheese-wine-tasting-and-chocolate-dippin-party-6753
END:VEVENT

END:VCALENDAR
