BEGIN:VCALENDAR
VERSION:2.0
PRODID:-//ChamberMaster//Event Calendar 2.0//EN
METHOD:PUBLISH
X-PUBLISHED-TTL:P3D
REFRESH-INTERVAL:P3D
CALSCALE:GREGORIAN
BEGIN:VEVENT
DTSTART:20180906T210000Z
DTEND:20180906T230000Z
X-MICROSOFT-CDO-ALLDAYEVENT:FALSE
SUMMARY:Rose Garden Cocktail Party
DESCRIPTION:Come and celebrate the end of Summer at The Lakeshore! Enjoy the sounds of The Toucans steel drum band. Indulge in cocktails\, appetizers and desserts inspired by the flavors of the Caribbean. Space is limited. Please be sure to RSVP by Sept 3.
X-ALT-DESC;FMTTYPE=text/html:Come and celebrate the end of Summer at The Lakeshore! Enjoy the sounds of The Toucans steel drum band. Indulge in cocktails\, appetizers and desserts inspired by the flavors of the Caribbean. Space is limited. Please be sure to RSVP by Sept 3.
LOCATION:The Lakeshore 11448 Rainier Ave S\, Seattle\, WA 98178
UID:e.16.5901
SEQUENCE:3
DTSTAMP:20260424T153311Z
URL:https://chamber.gorenton.com/events/details/rose-garden-cocktail-party-5901
END:VEVENT

END:VCALENDAR
