BEGIN:VCALENDAR
VERSION:2.0
PRODID:-//ChamberMaster//Event Calendar 2.0//EN
METHOD:PUBLISH
X-PUBLISHED-TTL:P3D
REFRESH-INTERVAL:P3D
CALSCALE:GREGORIAN
BEGIN:VEVENT
DTSTART:20180304T013000Z
DTEND:20180304T060000Z
X-MICROSOFT-CDO-ALLDAYEVENT:FALSE
SUMMARY:Rotary Club of Renton: Puttin' On The RItz
DESCRIPTION:Rotary Club of Renton proudly invites you to:\n\n Puttin' On The Ritz\n\n\n\nJoin us at the Hyatt Regency for this Event of the Season.  This 52nd annual CAPER auction directly benefits the greater Renton community as it allows Rotary to support student scholarships\, free medical care\, non-profits that help young people with mental health issues and addictions\, and MORE.
X-ALT-DESC;FMTTYPE=text/html:Rotary Club of Renton proudly invites you to:<br />\n&#8203\;Puttin&#39\; On The Ritz<br />\n<br />\nJoin us at the Hyatt Regency for this Event of the Season.&nbsp\; This 52nd annual CAPER auction directly benefits the greater Renton community as it allows Rotary to support student scholarships\, free medical care\, non-profits that help young people with mental health issues and addictions\, and MORE.
LOCATION:Renton Hyatt Regency Ballroom 1053 Lake Washington Blvd. N. Renton\, WA 98056
UID:e.16.5047
SEQUENCE:3
DTSTAMP:20260425T005810Z
URL:https://chamber.gorenton.com/events/details/rotary-club-of-renton-puttin-on-the-ritz-5047
END:VEVENT

END:VCALENDAR
