BEGIN:VCALENDAR
VERSION:2.0
PRODID:-//ChamberMaster//Event Calendar 2.0//EN
METHOD:PUBLISH
X-PUBLISHED-TTL:P3D
REFRESH-INTERVAL:P3D
CALSCALE:GREGORIAN
BEGIN:VEVENT
DTSTART:20181013T160000Z
DTEND:20181013T180000Z
X-MICROSOFT-CDO-ALLDAYEVENT:FALSE
SUMMARY:Salmon Run 5k Run - Run Wild in Renton
DESCRIPTION:Saturday\, October 13 - Run Wild 5k - 9:00 - 11:00am Riverview Park 2901 Maple Valley Highway\, Renton\, WA 98058. Run with the salmon! Witness the Cedar River salmon migration as you participate in this free 5k along the river View the Course page for more details. This free 5k is hosted generously by Renton Parkrun. There is no cost to participate\, but participants are encouraged to register before the run in order to get your time for the event.Don't forget to bring a printed copy of your barcode (request a reminder). If you do not register and bring your barcode\, you will not get a time Don't miss your opportunity to view spawning locations and participate in programming presented by the Seattle Aquarium...then follow the river into Downtown Renton for hosted activities all day long!
X-ALT-DESC;FMTTYPE=text/html:Saturday\, October 13 - Run Wild 5k - 9:00 - 11:00am Riverview Park 2901 Maple Valley Highway\, Renton\, WA 98058. Run with the salmon! Witness the Cedar River salmon migration as you participate in this free 5k along the river View the Course page for more details. This free 5k is hosted generously by Renton Parkrun. There is no cost to participate\, but participants are encouraged to register before the run in order to get your time for the event.Don&#39\;t forget to bring a printed copy of your barcode (request a reminder). If you do not register and bring your barcode\, you will not get a time Don&#39\;t miss your opportunity to view spawning locations and participate in programming presented by the Seattle Aquarium...then follow the river into Downtown Renton for hosted activities all day long!
LOCATION:Riverview Park 2901 Maple Valley Hwy
UID:e.16.5913
SEQUENCE:3
DTSTAMP:20260424T134113Z
URL:https://chamber.gorenton.com/events/details/salmon-run-5k-run-run-wild-in-renton-5913
END:VEVENT

END:VCALENDAR
